BEGIN:VCALENDAR
VERSION:2.0
PRODID:-//Göteborgs Golf Klubb - ECPv6.15.15//NONSGML v1.0//EN
CALSCALE:GREGORIAN
METHOD:PUBLISH
X-WR-CALNAME:Göteborgs Golf Klubb
X-ORIGINAL-URL:https://www.goteborgsgk.org
X-WR-CALDESC:Händelser för Göteborgs Golf Klubb
REFRESH-INTERVAL;VALUE=DURATION:PT1H
X-Robots-Tag:noindex
X-PUBLISHED-TTL:PT1H
BEGIN:VTIMEZONE
TZID:Europe/Stockholm
BEGIN:DAYLIGHT
TZOFFSETFROM:+0100
TZOFFSETTO:+0200
TZNAME:CEST
DTSTART:20240331T010000
END:DAYLIGHT
BEGIN:STANDARD
TZOFFSETFROM:+0200
TZOFFSETTO:+0100
TZNAME:CET
DTSTART:20241027T010000
END:STANDARD
BEGIN:DAYLIGHT
TZOFFSETFROM:+0100
TZOFFSETTO:+0200
TZNAME:CEST
DTSTART:20250330T010000
END:DAYLIGHT
BEGIN:STANDARD
TZOFFSETFROM:+0200
TZOFFSETTO:+0100
TZNAME:CET
DTSTART:20251026T010000
END:STANDARD
BEGIN:DAYLIGHT
TZOFFSETFROM:+0100
TZOFFSETTO:+0200
TZNAME:CEST
DTSTART:20260329T010000
END:DAYLIGHT
BEGIN:STANDARD
TZOFFSETFROM:+0200
TZOFFSETTO:+0100
TZNAME:CET
DTSTART:20261025T010000
END:STANDARD
END:VTIMEZONE
BEGIN:VEVENT
DTSTART;TZID=Europe/Stockholm:20250615T090000
DTEND;TZID=Europe/Stockholm:20250619T150000
DTSTAMP:20260419T193547
CREATED:20250619T080250Z
LAST-MODIFIED:20250619T080259Z
UID:10001825-1749978000-1750345200@www.goteborgsgk.org
SUMMARY:Knatteläger
DESCRIPTION:Klubbens knatteläger genomförs från Söndag den 15-juni till Torsdag 19-juni. \n\n\n\nTräning pågår på range och närspel under dessa dagar. Begränsad tillgänglighet på range och närspel under dessa dagar.
URL:https://www.goteborgsgk.org/kalender/knattelager/
CATEGORIES:Träningsområden
END:VEVENT
BEGIN:VEVENT
DTSTART;TZID=Europe/Stockholm:20250617T100000
DTEND;TZID=Europe/Stockholm:20250617T113000
DTSTAMP:20260419T193547
CREATED:20250408T104152Z
LAST-MODIFIED:20250408T104631Z
UID:10001618-1750154400-1750159800@www.goteborgsgk.org
SUMMARY:Senior 55+ Närspel
DESCRIPTION:Träning för Senior 55+ på närspelet. \n\n\n\n1 övningsgreen finns ledig för egenträning.
URL:https://www.goteborgsgk.org/kalender/senior-55-narspel/2025-06-17/
CATEGORIES:Träningsområden
END:VEVENT
BEGIN:VEVENT
DTSTART;TZID=Europe/Stockholm:20250619T130000
DTEND;TZID=Europe/Stockholm:20250619T150000
DTSTAMP:20260419T193547
CREATED:20250615T194752Z
LAST-MODIFIED:20250615T194753Z
UID:10001824-1750338000-1750345200@www.goteborgsgk.org
SUMMARY:Rangen avstängd
DESCRIPTION:Rangen är avstängd 13:00-15:00 pga underhåll och bollplockning.
URL:https://www.goteborgsgk.org/kalender/rangen-avstangd-6/
CATEGORIES:Träningsområden
END:VEVENT
END:VCALENDAR