BEGIN:VCALENDAR
VERSION:2.0
PRODID:-//Göteborgs Golf Klubb - ECPv6.15.15//NONSGML v1.0//EN
CALSCALE:GREGORIAN
METHOD:PUBLISH
X-ORIGINAL-URL:https://www.goteborgsgk.org
X-WR-CALDESC:Händelser för Göteborgs Golf Klubb
REFRESH-INTERVAL;VALUE=DURATION:PT1H
X-Robots-Tag:noindex
X-PUBLISHED-TTL:PT1H
BEGIN:VTIMEZONE
TZID:Europe/Stockholm
BEGIN:DAYLIGHT
TZOFFSETFROM:+0100
TZOFFSETTO:+0200
TZNAME:CEST
DTSTART:20240331T010000
END:DAYLIGHT
BEGIN:STANDARD
TZOFFSETFROM:+0200
TZOFFSETTO:+0100
TZNAME:CET
DTSTART:20241027T010000
END:STANDARD
BEGIN:DAYLIGHT
TZOFFSETFROM:+0100
TZOFFSETTO:+0200
TZNAME:CEST
DTSTART:20250330T010000
END:DAYLIGHT
BEGIN:STANDARD
TZOFFSETFROM:+0200
TZOFFSETTO:+0100
TZNAME:CET
DTSTART:20251026T010000
END:STANDARD
BEGIN:DAYLIGHT
TZOFFSETFROM:+0100
TZOFFSETTO:+0200
TZNAME:CEST
DTSTART:20260329T010000
END:DAYLIGHT
BEGIN:STANDARD
TZOFFSETFROM:+0200
TZOFFSETTO:+0100
TZNAME:CET
DTSTART:20261025T010000
END:STANDARD
END:VTIMEZONE
BEGIN:VEVENT
DTSTART;TZID=Europe/Stockholm:20250512T153000
DTEND;TZID=Europe/Stockholm:20250512T183000
DTSTAMP:20260419T193834
CREATED:20250408T104857Z
LAST-MODIFIED:20250408T104858Z
UID:10001620-1747063800-1747074600@www.goteborgsgk.org
SUMMARY:Juniorträning Närspel
DESCRIPTION:Juniorträning på närspelet mellan 15:30-18:30. \n\n\n\nEn övningsgreen är ledig för egenträning.
URL:https://www.goteborgsgk.org/kalender/juniortraning-narspel-11/2025-05-12/
CATEGORIES:Träningsområden
END:VEVENT
BEGIN:VEVENT
DTSTART;TZID=Europe/Stockholm:20250512T193000
DTEND;TZID=Europe/Stockholm:20250512T203000
DTSTAMP:20260419T193834
CREATED:20250408T105222Z
LAST-MODIFIED:20250408T105223Z
UID:10001626-1747078200-1747081800@www.goteborgsgk.org
SUMMARY:Serielagsträning Närspel & Range
DESCRIPTION:Träning för klubbens alla kategori serielag.  \n\n\n\nTräning på både Närspel och Range under dessa tider. Varierande tillgänglighet för egenträning under dessa tider.
URL:https://www.goteborgsgk.org/kalender/serielagstraning-narspel-range/2025-05-12/
CATEGORIES:Träningsområden
END:VEVENT
BEGIN:VEVENT
DTSTART;TZID=Europe/Stockholm:20250513T080000
DTEND;TZID=Europe/Stockholm:20250513T100000
DTSTAMP:20260419T193834
CREATED:20250512T151310Z
LAST-MODIFIED:20250512T151352Z
UID:10001818-1747123200-1747130400@www.goteborgsgk.org
SUMMARY:Range stängd\, bollplockning i kanter
DESCRIPTION:
URL:https://www.goteborgsgk.org/kalender/range-stangd-bollplockning-i-kanter/
CATEGORIES:Träningsområden
END:VEVENT
BEGIN:VEVENT
DTSTART;TZID=Europe/Stockholm:20250513T100000
DTEND;TZID=Europe/Stockholm:20250513T113000
DTSTAMP:20260419T193834
CREATED:20250408T104543Z
LAST-MODIFIED:20250408T104544Z
UID:10001612-1747130400-1747135800@www.goteborgsgk.org
SUMMARY:Senior 55+ Range
DESCRIPTION:Träning för Senior 55+ på rangen.  \n\n\n\nMycket begränsad tillgänglighet under dessa tider.
URL:https://www.goteborgsgk.org/kalender/senior-55-range/2025-05-13/
CATEGORIES:Träningsområden
END:VEVENT
BEGIN:VEVENT
DTSTART;TZID=Europe/Stockholm:20250514T153000
DTEND;TZID=Europe/Stockholm:20250514T193000
DTSTAMP:20260419T193834
CREATED:20250408T114051Z
LAST-MODIFIED:20250408T114052Z
UID:10001802-1747236600-1747251000@www.goteborgsgk.org
SUMMARY:Juniorträning Närspel
DESCRIPTION:Juniorträning på närspelet mellan 15:30-19:30. \n\n\n\n1 övningsgreen är ledig för medlemmar.
URL:https://www.goteborgsgk.org/kalender/juniortraning-narspel-16/2025-05-14/
CATEGORIES:Träningsområden
END:VEVENT
BEGIN:VEVENT
DTSTART;TZID=Europe/Stockholm:20250514T160000
DTEND;TZID=Europe/Stockholm:20250514T193000
DTSTAMP:20260419T193834
CREATED:20250408T113504Z
LAST-MODIFIED:20250408T113506Z
UID:10001798-1747238400-1747251000@www.goteborgsgk.org
SUMMARY:Juniorträning Range
DESCRIPTION:Juniorträning på rangen mellan 16:00-19:30. \n\n\n\nBegränsad tillgänglighet för egenträning under dessa tider.
URL:https://www.goteborgsgk.org/kalender/juniortraning-range-19/2025-05-14/
CATEGORIES:Träningsområden
END:VEVENT
BEGIN:VEVENT
DTSTART;TZID=Europe/Stockholm:20250515T153000
DTEND;TZID=Europe/Stockholm:20250515T173000
DTSTAMP:20260419T193834
CREATED:20250408T110926Z
LAST-MODIFIED:20250408T110927Z
UID:10001778-1747323000-1747330200@www.goteborgsgk.org
SUMMARY:Juniorträning Range
DESCRIPTION:Juniorträning på rangen mellan 15:30-17:30. \n\n\n\nVarierande tillgänglighet under dessa tider.
URL:https://www.goteborgsgk.org/kalender/juniortraning-range-17/2025-05-15/
CATEGORIES:Träningsområden
END:VEVENT
BEGIN:VEVENT
DTSTART;TZID=Europe/Stockholm:20250515T163000
DTEND;TZID=Europe/Stockholm:20250515T193000
DTSTAMP:20260419T193834
CREATED:20250408T110520Z
LAST-MODIFIED:20250408T110521Z
UID:10001645-1747326600-1747337400@www.goteborgsgk.org
SUMMARY:Juniorträning Närspel
DESCRIPTION:Juniorträning på närspelet mellan 16:30-19:30 \n\n\n\nDet finns alltid 1 övningsgreen ledig för egenträning.
URL:https://www.goteborgsgk.org/kalender/juniortraning-narspel-13/2025-05-15/
CATEGORIES:Träningsområden
END:VEVENT
BEGIN:VEVENT
DTSTART;TZID=Europe/Stockholm:20250518T130000
DTEND;TZID=Europe/Stockholm:20250518T160000
DTSTAMP:20260419T193834
CREATED:20250408T114801Z
LAST-MODIFIED:20250408T114832Z
UID:10001813-1747573200-1747584000@www.goteborgsgk.org
SUMMARY:Knatteträning Närspel
DESCRIPTION:Knatteträning på närspelet mellan 13:00-16:00. \n\n\n\n1 övningsgreen är ledig för medlemmar.
URL:https://www.goteborgsgk.org/kalender/knattetraning-narspel/2025-05-18/
CATEGORIES:Träningsområden
END:VEVENT
END:VCALENDAR