BEGIN:VCALENDAR
VERSION:2.0
PRODID:-//Göteborgs Golf Klubb - ECPv6.15.15//NONSGML v1.0//EN
CALSCALE:GREGORIAN
METHOD:PUBLISH
X-ORIGINAL-URL:https://www.goteborgsgk.org
X-WR-CALDESC:Händelser för Göteborgs Golf Klubb
REFRESH-INTERVAL;VALUE=DURATION:PT1H
X-Robots-Tag:noindex
X-PUBLISHED-TTL:PT1H
BEGIN:VTIMEZONE
TZID:Europe/Stockholm
BEGIN:DAYLIGHT
TZOFFSETFROM:+0100
TZOFFSETTO:+0200
TZNAME:CEST
DTSTART:20240331T010000
END:DAYLIGHT
BEGIN:STANDARD
TZOFFSETFROM:+0200
TZOFFSETTO:+0100
TZNAME:CET
DTSTART:20241027T010000
END:STANDARD
BEGIN:DAYLIGHT
TZOFFSETFROM:+0100
TZOFFSETTO:+0200
TZNAME:CEST
DTSTART:20250330T010000
END:DAYLIGHT
BEGIN:STANDARD
TZOFFSETFROM:+0200
TZOFFSETTO:+0100
TZNAME:CET
DTSTART:20251026T010000
END:STANDARD
BEGIN:DAYLIGHT
TZOFFSETFROM:+0100
TZOFFSETTO:+0200
TZNAME:CEST
DTSTART:20260329T010000
END:DAYLIGHT
BEGIN:STANDARD
TZOFFSETFROM:+0200
TZOFFSETTO:+0100
TZNAME:CET
DTSTART:20261025T010000
END:STANDARD
END:VTIMEZONE
BEGIN:VEVENT
DTSTART;TZID=Europe/Stockholm:20250428T153000
DTEND;TZID=Europe/Stockholm:20250428T183000
DTSTAMP:20260419T193720
CREATED:20250408T104857Z
LAST-MODIFIED:20250408T104858Z
UID:10001619-1745854200-1745865000@www.goteborgsgk.org
SUMMARY:Juniorträning Närspel
DESCRIPTION:Juniorträning på närspelet mellan 15:30-18:30. \n\n\n\nEn övningsgreen är ledig för egenträning.
URL:https://www.goteborgsgk.org/kalender/juniortraning-narspel-11/2025-04-28/
CATEGORIES:Träningsområden
END:VEVENT
BEGIN:VEVENT
DTSTART;TZID=Europe/Stockholm:20250428T153000
DTEND;TZID=Europe/Stockholm:20250428T193000
DTSTAMP:20260419T193720
CREATED:20250408T105737Z
LAST-MODIFIED:20250408T105738Z
UID:10001635-1745854200-1745868600@www.goteborgsgk.org
SUMMARY:Juniorträning Range
DESCRIPTION:Juniorträning på rangen mellan 15:30-19:30. \n\n\n\nBegränsad tillgänglighet under dessa tider.
URL:https://www.goteborgsgk.org/kalender/juniortraning-range-15/2025-04-28/
CATEGORIES:Träningsområden
END:VEVENT
BEGIN:VEVENT
DTSTART;TZID=Europe/Stockholm:20250428T193000
DTEND;TZID=Europe/Stockholm:20250428T203000
DTSTAMP:20260419T193720
CREATED:20250408T105222Z
LAST-MODIFIED:20250408T105223Z
UID:10001624-1745868600-1745872200@www.goteborgsgk.org
SUMMARY:Serielagsträning Närspel & Range
DESCRIPTION:Träning för klubbens alla kategori serielag.  \n\n\n\nTräning på både Närspel och Range under dessa tider. Varierande tillgänglighet för egenträning under dessa tider.
URL:https://www.goteborgsgk.org/kalender/serielagstraning-narspel-range/2025-04-28/
CATEGORIES:Träningsområden
END:VEVENT
BEGIN:VEVENT
DTSTART;TZID=Europe/Stockholm:20250429T100000
DTEND;TZID=Europe/Stockholm:20250429T113000
DTSTAMP:20260419T193720
CREATED:20250408T104543Z
LAST-MODIFIED:20250408T104544Z
UID:10001611-1745920800-1745926200@www.goteborgsgk.org
SUMMARY:Senior 55+ Range
DESCRIPTION:Träning för Senior 55+ på rangen.  \n\n\n\nMycket begränsad tillgänglighet under dessa tider.
URL:https://www.goteborgsgk.org/kalender/senior-55-range/2025-04-29/
CATEGORIES:Träningsområden
END:VEVENT
BEGIN:VEVENT
DTSTART;TZID=Europe/Stockholm:20250430T153000
DTEND;TZID=Europe/Stockholm:20250430T193000
DTSTAMP:20260419T193720
CREATED:20250408T114051Z
LAST-MODIFIED:20250408T114052Z
UID:10001801-1746027000-1746041400@www.goteborgsgk.org
SUMMARY:Juniorträning Närspel
DESCRIPTION:Juniorträning på närspelet mellan 15:30-19:30. \n\n\n\n1 övningsgreen är ledig för medlemmar.
URL:https://www.goteborgsgk.org/kalender/juniortraning-narspel-16/2025-04-30/
CATEGORIES:Träningsområden
END:VEVENT
BEGIN:VEVENT
DTSTART;TZID=Europe/Stockholm:20250430T160000
DTEND;TZID=Europe/Stockholm:20250430T193000
DTSTAMP:20260419T193720
CREATED:20250408T113504Z
LAST-MODIFIED:20250408T113506Z
UID:10001797-1746028800-1746041400@www.goteborgsgk.org
SUMMARY:Juniorträning Range
DESCRIPTION:Juniorträning på rangen mellan 16:00-19:30. \n\n\n\nBegränsad tillgänglighet för egenträning under dessa tider.
URL:https://www.goteborgsgk.org/kalender/juniortraning-range-19/2025-04-30/
CATEGORIES:Träningsområden
END:VEVENT
BEGIN:VEVENT
DTSTART;TZID=Europe/Stockholm:20250501T090000
DTEND;TZID=Europe/Stockholm:20250501T120000
DTSTAMP:20260419T193720
CREATED:20250409T074435Z
LAST-MODIFIED:20250409T074436Z
UID:10001817-1746090000-1746100800@www.goteborgsgk.org
SUMMARY:Serielags Kick-Off
DESCRIPTION:Serielags Kick-Off på Närspel & Range mellan 09:00-12:00. \n\n\n\nMycket begränsad tillgänglighet för egenträning.
URL:https://www.goteborgsgk.org/kalender/serielags-kick-off/
CATEGORIES:Träningsområden
END:VEVENT
BEGIN:VEVENT
DTSTART;TZID=Europe/Stockholm:20250501T153000
DTEND;TZID=Europe/Stockholm:20250501T173000
DTSTAMP:20260419T193720
CREATED:20250408T110926Z
LAST-MODIFIED:20250408T110927Z
UID:10001777-1746113400-1746120600@www.goteborgsgk.org
SUMMARY:Juniorträning Range
DESCRIPTION:Juniorträning på rangen mellan 15:30-17:30. \n\n\n\nVarierande tillgänglighet under dessa tider.
URL:https://www.goteborgsgk.org/kalender/juniortraning-range-17/2025-05-01/
CATEGORIES:Träningsområden
END:VEVENT
BEGIN:VEVENT
DTSTART;TZID=Europe/Stockholm:20250501T163000
DTEND;TZID=Europe/Stockholm:20250501T193000
DTSTAMP:20260419T193720
CREATED:20250408T110520Z
LAST-MODIFIED:20250408T110521Z
UID:10001644-1746117000-1746127800@www.goteborgsgk.org
SUMMARY:Juniorträning Närspel
DESCRIPTION:Juniorträning på närspelet mellan 16:30-19:30 \n\n\n\nDet finns alltid 1 övningsgreen ledig för egenträning.
URL:https://www.goteborgsgk.org/kalender/juniortraning-narspel-13/2025-05-01/
CATEGORIES:Träningsområden
END:VEVENT
BEGIN:VEVENT
DTSTART;TZID=Europe/Stockholm:20250504T130000
DTEND;TZID=Europe/Stockholm:20250504T160000
DTSTAMP:20260419T193720
CREATED:20250408T114801Z
LAST-MODIFIED:20250408T114832Z
UID:10001811-1746363600-1746374400@www.goteborgsgk.org
SUMMARY:Knatteträning Närspel
DESCRIPTION:Knatteträning på närspelet mellan 13:00-16:00. \n\n\n\n1 övningsgreen är ledig för medlemmar.
URL:https://www.goteborgsgk.org/kalender/knattetraning-narspel/2025-05-04/
CATEGORIES:Träningsområden
END:VEVENT
END:VCALENDAR