BEGIN:VCALENDAR
VERSION:2.0
PRODID:-//Göteborgs Golf Klubb - ECPv6.15.15//NONSGML v1.0//EN
CALSCALE:GREGORIAN
METHOD:PUBLISH
X-WR-CALNAME:Göteborgs Golf Klubb
X-ORIGINAL-URL:https://www.goteborgsgk.org
X-WR-CALDESC:Händelser för Göteborgs Golf Klubb
REFRESH-INTERVAL;VALUE=DURATION:PT1H
X-Robots-Tag:noindex
X-PUBLISHED-TTL:PT1H
BEGIN:VTIMEZONE
TZID:Europe/Stockholm
BEGIN:DAYLIGHT
TZOFFSETFROM:+0100
TZOFFSETTO:+0200
TZNAME:CEST
DTSTART:20230326T010000
END:DAYLIGHT
BEGIN:STANDARD
TZOFFSETFROM:+0200
TZOFFSETTO:+0100
TZNAME:CET
DTSTART:20231029T010000
END:STANDARD
BEGIN:DAYLIGHT
TZOFFSETFROM:+0100
TZOFFSETTO:+0200
TZNAME:CEST
DTSTART:20240331T010000
END:DAYLIGHT
BEGIN:STANDARD
TZOFFSETFROM:+0200
TZOFFSETTO:+0100
TZNAME:CET
DTSTART:20241027T010000
END:STANDARD
BEGIN:DAYLIGHT
TZOFFSETFROM:+0100
TZOFFSETTO:+0200
TZNAME:CEST
DTSTART:20250330T010000
END:DAYLIGHT
BEGIN:STANDARD
TZOFFSETFROM:+0200
TZOFFSETTO:+0100
TZNAME:CET
DTSTART:20251026T010000
END:STANDARD
END:VTIMEZONE
BEGIN:VEVENT
DTSTART;TZID=Europe/Stockholm:20240903T100000
DTEND;TZID=Europe/Stockholm:20240903T113000
DTSTAMP:20260420T063851
CREATED:20240627T074558Z
LAST-MODIFIED:20240627T074749Z
UID:10001587-1725357600-1725363000@www.goteborgsgk.org
SUMMARY:Seniorträning Närspel
DESCRIPTION:Seniorträning på närspelet. En övningsgreen är tillgänglig för träning mellan 10:00-11:30.
URL:https://www.goteborgsgk.org/kalender/seniortraning-narspel/2024-09-03/
CATEGORIES:Träningsområden
END:VEVENT
BEGIN:VEVENT
DTSTART;TZID=Europe/Stockholm:20240902T153000
DTEND;TZID=Europe/Stockholm:20240902T193000
DTSTAMP:20260420T063851
CREATED:20240627T073103Z
LAST-MODIFIED:20240627T074015Z
UID:10001565-1725291000-1725305400@www.goteborgsgk.org
SUMMARY:Junior-/medlemsträning Närspel
DESCRIPTION:Flera träningsaktiviteter samtidigt på närspelet. En green tillgänglig för egenträning under dessa tider.
URL:https://www.goteborgsgk.org/kalender/junior-medlemstraning-narspel/2024-09-02/
CATEGORIES:Träningsområden
END:VEVENT
BEGIN:VEVENT
DTSTART;TZID=Europe/Stockholm:20240902T153000
DTEND;TZID=Europe/Stockholm:20240902T193000
DTSTAMP:20260420T063851
CREATED:20240627T072810Z
LAST-MODIFIED:20240627T074133Z
UID:10001575-1725291000-1725305400@www.goteborgsgk.org
SUMMARY:Junior-/medlemsträning Range
DESCRIPTION:Flera träningsgrupper på rangen samtidigt. Mycket begränsad tillgänglighet mellan 15:30-19:30.
URL:https://www.goteborgsgk.org/kalender/junior-medlemstraning-range/2024-09-02/
CATEGORIES:Träningsområden
END:VEVENT
BEGIN:VEVENT
DTSTART;TZID=Europe/Stockholm:20240829T153000
DTEND;TZID=Europe/Stockholm:20240829T193000
DTSTAMP:20260420T063851
CREATED:20240627T073103Z
LAST-MODIFIED:20240627T074015Z
UID:10001564-1724945400-1724959800@www.goteborgsgk.org
SUMMARY:Junior-/medlemsträning Närspel
DESCRIPTION:Flera träningsaktiviteter samtidigt på närspelet. En green tillgänglig för egenträning under dessa tider.
URL:https://www.goteborgsgk.org/kalender/junior-medlemstraning-narspel/2024-08-29/
CATEGORIES:Träningsområden
END:VEVENT
BEGIN:VEVENT
DTSTART;TZID=Europe/Stockholm:20240829T153000
DTEND;TZID=Europe/Stockholm:20240829T193000
DTSTAMP:20260420T063851
CREATED:20240627T072810Z
LAST-MODIFIED:20240627T074133Z
UID:10001574-1724945400-1724959800@www.goteborgsgk.org
SUMMARY:Junior-/medlemsträning Range
DESCRIPTION:Flera träningsgrupper på rangen samtidigt. Mycket begränsad tillgänglighet mellan 15:30-19:30.
URL:https://www.goteborgsgk.org/kalender/junior-medlemstraning-range/2024-08-29/
CATEGORIES:Träningsområden
END:VEVENT
BEGIN:VEVENT
DTSTART;TZID=Europe/Stockholm:20240828T153000
DTEND;TZID=Europe/Stockholm:20240828T193000
DTSTAMP:20260420T063851
CREATED:20240627T073103Z
LAST-MODIFIED:20240627T074015Z
UID:10001563-1724859000-1724873400@www.goteborgsgk.org
SUMMARY:Junior-/medlemsträning Närspel
DESCRIPTION:Flera träningsaktiviteter samtidigt på närspelet. En green tillgänglig för egenträning under dessa tider.
URL:https://www.goteborgsgk.org/kalender/junior-medlemstraning-narspel/2024-08-28/
CATEGORIES:Träningsområden
END:VEVENT
BEGIN:VEVENT
DTSTART;TZID=Europe/Stockholm:20240828T153000
DTEND;TZID=Europe/Stockholm:20240828T193000
DTSTAMP:20260420T063851
CREATED:20240627T072810Z
LAST-MODIFIED:20240627T074133Z
UID:10001573-1724859000-1724873400@www.goteborgsgk.org
SUMMARY:Junior-/medlemsträning Range
DESCRIPTION:Flera träningsgrupper på rangen samtidigt. Mycket begränsad tillgänglighet mellan 15:30-19:30.
URL:https://www.goteborgsgk.org/kalender/junior-medlemstraning-range/2024-08-28/
CATEGORIES:Träningsområden
END:VEVENT
BEGIN:VEVENT
DTSTART;TZID=Europe/Stockholm:20240827T100000
DTEND;TZID=Europe/Stockholm:20240827T113000
DTSTAMP:20260420T063851
CREATED:20240627T074404Z
LAST-MODIFIED:20240627T074406Z
UID:10001582-1724752800-1724758200@www.goteborgsgk.org
SUMMARY:Seniorträning Range
DESCRIPTION:Seniorträning på rangen mellan 10:00-11:30. Begränsad tillgänglighet.
URL:https://www.goteborgsgk.org/kalender/seniortraning-range/2024-08-27/
CATEGORIES:Träningsområden
END:VEVENT
BEGIN:VEVENT
DTSTART;TZID=Europe/Stockholm:20240826T153000
DTEND;TZID=Europe/Stockholm:20240826T193000
DTSTAMP:20260420T063851
CREATED:20240627T073103Z
LAST-MODIFIED:20240627T074015Z
UID:10001562-1724686200-1724700600@www.goteborgsgk.org
SUMMARY:Junior-/medlemsträning Närspel
DESCRIPTION:Flera träningsaktiviteter samtidigt på närspelet. En green tillgänglig för egenträning under dessa tider.
URL:https://www.goteborgsgk.org/kalender/junior-medlemstraning-narspel/2024-08-26/
CATEGORIES:Träningsområden
END:VEVENT
BEGIN:VEVENT
DTSTART;TZID=Europe/Stockholm:20240826T153000
DTEND;TZID=Europe/Stockholm:20240826T193000
DTSTAMP:20260420T063851
CREATED:20240627T072810Z
LAST-MODIFIED:20240627T074133Z
UID:10001572-1724686200-1724700600@www.goteborgsgk.org
SUMMARY:Junior-/medlemsträning Range
DESCRIPTION:Flera träningsgrupper på rangen samtidigt. Mycket begränsad tillgänglighet mellan 15:30-19:30.
URL:https://www.goteborgsgk.org/kalender/junior-medlemstraning-range/2024-08-26/
CATEGORIES:Träningsområden
END:VEVENT
BEGIN:VEVENT
DTSTART;TZID=Europe/Stockholm:20240822T153000
DTEND;TZID=Europe/Stockholm:20240822T193000
DTSTAMP:20260420T063851
CREATED:20240627T073103Z
LAST-MODIFIED:20240627T074015Z
UID:10001561-1724340600-1724355000@www.goteborgsgk.org
SUMMARY:Junior-/medlemsträning Närspel
DESCRIPTION:Flera träningsaktiviteter samtidigt på närspelet. En green tillgänglig för egenträning under dessa tider.
URL:https://www.goteborgsgk.org/kalender/junior-medlemstraning-narspel/2024-08-22/
CATEGORIES:Träningsområden
END:VEVENT
BEGIN:VEVENT
DTSTART;TZID=Europe/Stockholm:20240822T153000
DTEND;TZID=Europe/Stockholm:20240822T193000
DTSTAMP:20260420T063851
CREATED:20240627T072810Z
LAST-MODIFIED:20240627T074133Z
UID:10001571-1724340600-1724355000@www.goteborgsgk.org
SUMMARY:Junior-/medlemsträning Range
DESCRIPTION:Flera träningsgrupper på rangen samtidigt. Mycket begränsad tillgänglighet mellan 15:30-19:30.
URL:https://www.goteborgsgk.org/kalender/junior-medlemstraning-range/2024-08-22/
CATEGORIES:Träningsområden
END:VEVENT
BEGIN:VEVENT
DTSTART;TZID=Europe/Stockholm:20240821T153000
DTEND;TZID=Europe/Stockholm:20240821T193000
DTSTAMP:20260420T063851
CREATED:20240627T073103Z
LAST-MODIFIED:20240627T074015Z
UID:10001560-1724254200-1724268600@www.goteborgsgk.org
SUMMARY:Junior-/medlemsträning Närspel
DESCRIPTION:Flera träningsaktiviteter samtidigt på närspelet. En green tillgänglig för egenträning under dessa tider.
URL:https://www.goteborgsgk.org/kalender/junior-medlemstraning-narspel/2024-08-21/
CATEGORIES:Träningsområden
END:VEVENT
BEGIN:VEVENT
DTSTART;TZID=Europe/Stockholm:20240821T153000
DTEND;TZID=Europe/Stockholm:20240821T193000
DTSTAMP:20260420T063851
CREATED:20240627T072810Z
LAST-MODIFIED:20240627T074133Z
UID:10001555-1724254200-1724268600@www.goteborgsgk.org
SUMMARY:Junior-/medlemsträning Range
DESCRIPTION:Flera träningsgrupper på rangen samtidigt. Mycket begränsad tillgänglighet mellan 15:30-19:30.
URL:https://www.goteborgsgk.org/kalender/junior-medlemstraning-range/2024-08-21/
CATEGORIES:Träningsområden
END:VEVENT
BEGIN:VEVENT
DTSTART;TZID=Europe/Stockholm:20240820T100000
DTEND;TZID=Europe/Stockholm:20240820T113000
DTSTAMP:20260420T063851
CREATED:20240627T074558Z
LAST-MODIFIED:20240627T074749Z
UID:10001586-1724148000-1724153400@www.goteborgsgk.org
SUMMARY:Seniorträning Närspel
DESCRIPTION:Seniorträning på närspelet. En övningsgreen är tillgänglig för träning mellan 10:00-11:30.
URL:https://www.goteborgsgk.org/kalender/seniortraning-narspel/2024-08-20/
CATEGORIES:Träningsområden
END:VEVENT
BEGIN:VEVENT
DTSTART;TZID=Europe/Stockholm:20240819T153000
DTEND;TZID=Europe/Stockholm:20240819T193000
DTSTAMP:20260420T063851
CREATED:20240627T073103Z
LAST-MODIFIED:20240627T074015Z
UID:10001559-1724081400-1724095800@www.goteborgsgk.org
SUMMARY:Junior-/medlemsträning Närspel
DESCRIPTION:Flera träningsaktiviteter samtidigt på närspelet. En green tillgänglig för egenträning under dessa tider.
URL:https://www.goteborgsgk.org/kalender/junior-medlemstraning-narspel/2024-08-19/
CATEGORIES:Träningsområden
END:VEVENT
BEGIN:VEVENT
DTSTART;TZID=Europe/Stockholm:20240819T153000
DTEND;TZID=Europe/Stockholm:20240819T193000
DTSTAMP:20260420T063851
CREATED:20240627T072810Z
LAST-MODIFIED:20240627T074133Z
UID:10001554-1724081400-1724095800@www.goteborgsgk.org
SUMMARY:Junior-/medlemsträning Range
DESCRIPTION:Flera träningsgrupper på rangen samtidigt. Mycket begränsad tillgänglighet mellan 15:30-19:30.
URL:https://www.goteborgsgk.org/kalender/junior-medlemstraning-range/2024-08-19/
CATEGORIES:Träningsområden
END:VEVENT
BEGIN:VEVENT
DTSTART;TZID=Europe/Stockholm:20240815T153000
DTEND;TZID=Europe/Stockholm:20240815T193000
DTSTAMP:20260420T063851
CREATED:20240627T073103Z
LAST-MODIFIED:20240627T074015Z
UID:10001558-1723735800-1723750200@www.goteborgsgk.org
SUMMARY:Junior-/medlemsträning Närspel
DESCRIPTION:Flera träningsaktiviteter samtidigt på närspelet. En green tillgänglig för egenträning under dessa tider.
URL:https://www.goteborgsgk.org/kalender/junior-medlemstraning-narspel/2024-08-15/
CATEGORIES:Träningsområden
END:VEVENT
BEGIN:VEVENT
DTSTART;TZID=Europe/Stockholm:20240815T153000
DTEND;TZID=Europe/Stockholm:20240815T193000
DTSTAMP:20260420T063851
CREATED:20240627T072810Z
LAST-MODIFIED:20240627T074133Z
UID:10001553-1723735800-1723750200@www.goteborgsgk.org
SUMMARY:Junior-/medlemsträning Range
DESCRIPTION:Flera träningsgrupper på rangen samtidigt. Mycket begränsad tillgänglighet mellan 15:30-19:30.
URL:https://www.goteborgsgk.org/kalender/junior-medlemstraning-range/2024-08-15/
CATEGORIES:Träningsområden
END:VEVENT
BEGIN:VEVENT
DTSTART;TZID=Europe/Stockholm:20240814T153000
DTEND;TZID=Europe/Stockholm:20240814T193000
DTSTAMP:20260420T063851
CREATED:20240627T073103Z
LAST-MODIFIED:20240627T074015Z
UID:10001557-1723649400-1723663800@www.goteborgsgk.org
SUMMARY:Junior-/medlemsträning Närspel
DESCRIPTION:Flera träningsaktiviteter samtidigt på närspelet. En green tillgänglig för egenträning under dessa tider.
URL:https://www.goteborgsgk.org/kalender/junior-medlemstraning-narspel/2024-08-14/
CATEGORIES:Träningsområden
END:VEVENT
BEGIN:VEVENT
DTSTART;TZID=Europe/Stockholm:20240814T153000
DTEND;TZID=Europe/Stockholm:20240814T193000
DTSTAMP:20260420T063851
CREATED:20240627T072810Z
LAST-MODIFIED:20240627T074133Z
UID:10001552-1723649400-1723663800@www.goteborgsgk.org
SUMMARY:Junior-/medlemsträning Range
DESCRIPTION:Flera träningsgrupper på rangen samtidigt. Mycket begränsad tillgänglighet mellan 15:30-19:30.
URL:https://www.goteborgsgk.org/kalender/junior-medlemstraning-range/2024-08-14/
CATEGORIES:Träningsområden
END:VEVENT
BEGIN:VEVENT
DTSTART;TZID=Europe/Stockholm:20240814T090000
DTEND;TZID=Europe/Stockholm:20240816T130000
DTSTAMP:20260420T063851
CREATED:20240627T074940Z
LAST-MODIFIED:20240627T083053Z
UID:10001588-1723626000-1723813200@www.goteborgsgk.org
SUMMARY:Damläger Närspel/Range
DESCRIPTION:Damläger på närspel och range mellan 09:00-13:00. Begränsad tillgänglighet under dessa tider.
URL:https://www.goteborgsgk.org/kalender/damlager-narspel-range/
CATEGORIES:Träningsområden
END:VEVENT
BEGIN:VEVENT
DTSTART;TZID=Europe/Stockholm:20240813T100000
DTEND;TZID=Europe/Stockholm:20240813T113000
DTSTAMP:20260420T063851
CREATED:20240627T074404Z
LAST-MODIFIED:20240627T074406Z
UID:10001581-1723543200-1723548600@www.goteborgsgk.org
SUMMARY:Seniorträning Range
DESCRIPTION:Seniorträning på rangen mellan 10:00-11:30. Begränsad tillgänglighet.
URL:https://www.goteborgsgk.org/kalender/seniortraning-range/2024-08-13/
CATEGORIES:Träningsområden
END:VEVENT
BEGIN:VEVENT
DTSTART;TZID=Europe/Stockholm:20240812T153000
DTEND;TZID=Europe/Stockholm:20240812T193000
DTSTAMP:20260420T063851
CREATED:20240627T073103Z
LAST-MODIFIED:20240627T074015Z
UID:10001556-1723476600-1723491000@www.goteborgsgk.org
SUMMARY:Junior-/medlemsträning Närspel
DESCRIPTION:Flera träningsaktiviteter samtidigt på närspelet. En green tillgänglig för egenträning under dessa tider.
URL:https://www.goteborgsgk.org/kalender/junior-medlemstraning-narspel/2024-08-12/
CATEGORIES:Träningsområden
END:VEVENT
BEGIN:VEVENT
DTSTART;TZID=Europe/Stockholm:20240812T153000
DTEND;TZID=Europe/Stockholm:20240812T193000
DTSTAMP:20260420T063851
CREATED:20240627T072810Z
LAST-MODIFIED:20240627T074133Z
UID:10001551-1723476600-1723491000@www.goteborgsgk.org
SUMMARY:Junior-/medlemsträning Range
DESCRIPTION:Flera träningsgrupper på rangen samtidigt. Mycket begränsad tillgänglighet mellan 15:30-19:30.
URL:https://www.goteborgsgk.org/kalender/junior-medlemstraning-range/2024-08-12/
CATEGORIES:Träningsområden
END:VEVENT
BEGIN:VEVENT
DTSTART;TZID=Europe/Stockholm:20240802T130000
DTEND;TZID=Europe/Stockholm:20240802T154500
DTSTAMP:20260420T063851
CREATED:20240727T100720Z
LAST-MODIFIED:20240727T100722Z
UID:10001595-1722603600-1722613500@www.goteborgsgk.org
SUMMARY:Juniorträning närspel
DESCRIPTION:Juniorträning på närspelet. Två greener är reserverade för träning. Begränsad tillgång för dig som vill träna på egen hand.
URL:https://www.goteborgsgk.org/kalender/juniortraning-narspel-10/
CATEGORIES:Träningsområden
END:VEVENT
BEGIN:VEVENT
DTSTART;TZID=Europe/Stockholm:20240802T100000
DTEND;TZID=Europe/Stockholm:20240802T110000
DTSTAMP:20260420T063851
CREATED:20240727T100434Z
LAST-MODIFIED:20240727T100435Z
UID:10001594-1722592800-1722596400@www.goteborgsgk.org
SUMMARY:Juniorträning range
DESCRIPTION:Juniorträning på rangen. Tio mattor är reserverade för träning.
URL:https://www.goteborgsgk.org/kalender/juniortraning-range-13/
CATEGORIES:Träningsområden
END:VEVENT
BEGIN:VEVENT
DTSTART;TZID=Europe/Stockholm:20240730T113000
DTEND;TZID=Europe/Stockholm:20240730T123000
DTSTAMP:20260420T063851
CREATED:20240727T100329Z
LAST-MODIFIED:20240727T100330Z
UID:10001593-1722339000-1722342600@www.goteborgsgk.org
SUMMARY:Juniorträning range
DESCRIPTION:Juniorträning på rangen. Tio mattor är reserverade för träning.
URL:https://www.goteborgsgk.org/kalender/juniortraning-range-12/
CATEGORIES:Träningsområden
END:VEVENT
BEGIN:VEVENT
DTSTART;TZID=Europe/Stockholm:20240729T104500
DTEND;TZID=Europe/Stockholm:20240729T120000
DTSTAMP:20260420T063851
CREATED:20240727T100230Z
LAST-MODIFIED:20240727T100231Z
UID:10001592-1722249900-1722254400@www.goteborgsgk.org
SUMMARY:Juniorträning närspel
DESCRIPTION:Juniorträning på närspelet. Begränsad tillgång för medlem som vill träna själv. Vi strävar efter att alltid ha en green öppen för egenträning.
URL:https://www.goteborgsgk.org/kalender/juniortraning-narspel-9/
CATEGORIES:Träningsområden
END:VEVENT
BEGIN:VEVENT
DTSTART;TZID=Europe/Stockholm:20240729T090000
DTEND;TZID=Europe/Stockholm:20240729T103000
DTSTAMP:20260420T063851
CREATED:20240727T100049Z
LAST-MODIFIED:20240727T100051Z
UID:10001591-1722243600-1722249000@www.goteborgsgk.org
SUMMARY:Juniorträning range
DESCRIPTION:Juniorträning på rangen. Matta 3-10 reserverad för träning under den här tiden.
URL:https://www.goteborgsgk.org/kalender/juniortraning-range-11/
CATEGORIES:Träningsområden
END:VEVENT
END:VCALENDAR