BEGIN:VCALENDAR
VERSION:2.0
PRODID:-//Göteborgs Golf Klubb - ECPv6.15.15//NONSGML v1.0//EN
CALSCALE:GREGORIAN
METHOD:PUBLISH
X-WR-CALNAME:Göteborgs Golf Klubb
X-ORIGINAL-URL:https://www.goteborgsgk.org
X-WR-CALDESC:Händelser för Göteborgs Golf Klubb
REFRESH-INTERVAL;VALUE=DURATION:PT1H
X-Robots-Tag:noindex
X-PUBLISHED-TTL:PT1H
BEGIN:VTIMEZONE
TZID:Europe/Stockholm
BEGIN:DAYLIGHT
TZOFFSETFROM:+0100
TZOFFSETTO:+0200
TZNAME:CEST
DTSTART:20220327T010000
END:DAYLIGHT
BEGIN:STANDARD
TZOFFSETFROM:+0200
TZOFFSETTO:+0100
TZNAME:CET
DTSTART:20221030T010000
END:STANDARD
BEGIN:DAYLIGHT
TZOFFSETFROM:+0100
TZOFFSETTO:+0200
TZNAME:CEST
DTSTART:20230326T010000
END:DAYLIGHT
BEGIN:STANDARD
TZOFFSETFROM:+0200
TZOFFSETTO:+0100
TZNAME:CET
DTSTART:20231029T010000
END:STANDARD
BEGIN:DAYLIGHT
TZOFFSETFROM:+0100
TZOFFSETTO:+0200
TZNAME:CEST
DTSTART:20240331T010000
END:DAYLIGHT
BEGIN:STANDARD
TZOFFSETFROM:+0200
TZOFFSETTO:+0100
TZNAME:CET
DTSTART:20241027T010000
END:STANDARD
END:VTIMEZONE
BEGIN:VEVENT
DTSTART;TZID=Europe/Stockholm:20230330T190000
DTEND;TZID=Europe/Stockholm:20230330T210000
DTSTAMP:20260423T214017
CREATED:20230210T091720Z
LAST-MODIFIED:20230405T081532Z
UID:10000013-1680202800-1680210000@www.goteborgsgk.org
SUMMARY:Årsmöte
DESCRIPTION:
URL:https://www.goteborgsgk.org/kalender/arsmote/
CATEGORIES:Kalender
END:VEVENT
BEGIN:VEVENT
DTSTART;TZID=Europe/Stockholm:20230330T000000
DTEND;TZID=Europe/Stockholm:20230330T235959
DTSTAMP:20260423T214017
CREATED:20230209T131511Z
LAST-MODIFIED:20230405T081539Z
UID:10000012-1680134400-1680220799@www.goteborgsgk.org
SUMMARY:Drivingrangen öppnar
DESCRIPTION:
URL:https://www.goteborgsgk.org/kalender/drivingrangen-oppnar/
CATEGORIES:Kalender
END:VEVENT
BEGIN:VEVENT
DTSTART;TZID=Europe/Stockholm:20230220T113000
DTEND;TZID=Europe/Stockholm:20230220T140000
DTSTAMP:20260423T214017
CREATED:20230209T131434Z
LAST-MODIFIED:20230405T081546Z
UID:10000011-1676892600-1676901600@www.goteborgsgk.org
SUMMARY:Hovås Golfkrog öppnar för året
DESCRIPTION:
URL:https://www.goteborgsgk.org/kalender/hovas-golfkrog-oppnar-for-aret/
CATEGORIES:Kalender
END:VEVENT
END:VCALENDAR