BEGIN:VCALENDAR
VERSION:2.0
PRODID:-//Göteborgs Golf Klubb - ECPv6.15.15//NONSGML v1.0//EN
CALSCALE:GREGORIAN
METHOD:PUBLISH
X-WR-CALNAME:Göteborgs Golf Klubb
X-ORIGINAL-URL:https://www.goteborgsgk.org
X-WR-CALDESC:Händelser för Göteborgs Golf Klubb
REFRESH-INTERVAL;VALUE=DURATION:PT1H
X-Robots-Tag:noindex
X-PUBLISHED-TTL:PT1H
BEGIN:VTIMEZONE
TZID:Europe/Stockholm
BEGIN:DAYLIGHT
TZOFFSETFROM:+0100
TZOFFSETTO:+0200
TZNAME:CEST
DTSTART:20220327T010000
END:DAYLIGHT
BEGIN:STANDARD
TZOFFSETFROM:+0200
TZOFFSETTO:+0100
TZNAME:CET
DTSTART:20221030T010000
END:STANDARD
BEGIN:DAYLIGHT
TZOFFSETFROM:+0100
TZOFFSETTO:+0200
TZNAME:CEST
DTSTART:20230326T010000
END:DAYLIGHT
BEGIN:STANDARD
TZOFFSETFROM:+0200
TZOFFSETTO:+0100
TZNAME:CET
DTSTART:20231029T010000
END:STANDARD
BEGIN:DAYLIGHT
TZOFFSETFROM:+0100
TZOFFSETTO:+0200
TZNAME:CEST
DTSTART:20240331T010000
END:DAYLIGHT
BEGIN:STANDARD
TZOFFSETFROM:+0200
TZOFFSETTO:+0100
TZNAME:CET
DTSTART:20241027T010000
END:STANDARD
END:VTIMEZONE
BEGIN:VEVENT
DTSTART;TZID=Europe/Stockholm:20230419T160000
DTEND;TZID=Europe/Stockholm:20230419T170000
DTSTAMP:20260421T210006
CREATED:20230425T060052Z
LAST-MODIFIED:20230425T060052Z
UID:10000055-1681920000-1681923600@www.goteborgsgk.org
SUMMARY:Närspel juniorträning
DESCRIPTION:Begränsad tillgång till närspel. En övningsgreen är alltid öppen för medlemmen.
URL:https://www.goteborgsgk.org/kalender/narspel-juniortraning-7/2023-04-19/
CATEGORIES:Träningsområden
END:VEVENT
BEGIN:VEVENT
DTSTART;TZID=Europe/Stockholm:20230419T153000
DTEND;TZID=Europe/Stockholm:20230419T183000
DTSTAMP:20260421T210006
CREATED:20230425T055932Z
LAST-MODIFIED:20230425T055932Z
UID:10000051-1681918200-1681929000@www.goteborgsgk.org
SUMMARY:Drivingrange juniorträning
DESCRIPTION:Matta 1-10 är reserverade för juniorträning
URL:https://www.goteborgsgk.org/kalender/drivingrange-juniortraning-5/2023-04-19/
CATEGORIES:Träningsområden
END:VEVENT
BEGIN:VEVENT
DTSTART;TZID=Europe/Stockholm:20230418T180000
DTEND;TZID=Europe/Stockholm:20230418T210000
DTSTAMP:20260421T210006
CREATED:20230309T140357Z
LAST-MODIFIED:20230309T140358Z
UID:10000016-1681840800-1681851600@www.goteborgsgk.org
SUMMARY:Tävlingsledarutbildning 18:00-21:00
DESCRIPTION:Läs mer om utbildningen här.
URL:https://www.goteborgsgk.org/kalender/tavlingsledarutbildning-1800-2100-2/
CATEGORIES:Kalender
END:VEVENT
BEGIN:VEVENT
DTSTART;TZID=Europe/Stockholm:20230418T090000
DTEND;TZID=Europe/Stockholm:20230418T120000
DTSTAMP:20260421T210006
CREATED:20230419T112651Z
LAST-MODIFIED:20230419T112702Z
UID:10000037-1681808400-1681819200@www.goteborgsgk.org
SUMMARY:Närspel medlemsträning
DESCRIPTION:Begränsad tillgång till närspel. En övningsgreen är alltid öppen för medlemmen.
URL:https://www.goteborgsgk.org/kalender/narspel-medlemstraning/
CATEGORIES:Träningsområden
END:VEVENT
BEGIN:VEVENT
DTSTART;TZID=Europe/Stockholm:20230417T153000
DTEND;TZID=Europe/Stockholm:20230417T203000
DTSTAMP:20260421T210006
CREATED:20230425T055432Z
LAST-MODIFIED:20230425T055432Z
UID:10000043-1681745400-1681763400@www.goteborgsgk.org
SUMMARY:Drivingrange juniorträning
DESCRIPTION:Matta 1-10 är reserverade för juniorträning
URL:https://www.goteborgsgk.org/kalender/drivingrange-juniortraning-4/2023-04-17/
CATEGORIES:Träningsområden
END:VEVENT
BEGIN:VEVENT
DTSTART;TZID=Europe/Stockholm:20230417T153000
DTEND;TZID=Europe/Stockholm:20230417T183000
DTSTAMP:20260421T210006
CREATED:20230425T055626Z
LAST-MODIFIED:20230425T055626Z
UID:10000047-1681745400-1681756200@www.goteborgsgk.org
SUMMARY:Närspel juniorträning
DESCRIPTION:Begränsad tillgång till närspel. En övningsgreen är alltid öppen för medlemmen.
URL:https://www.goteborgsgk.org/kalender/narspel-juniortraning-6/2023-04-17/
CATEGORIES:Träningsområden
END:VEVENT
BEGIN:VEVENT
DTSTART;TZID=Europe/Stockholm:20230413T180000
DTEND;TZID=Europe/Stockholm:20230413T210000
DTSTAMP:20260421T210006
CREATED:20230309T140205Z
LAST-MODIFIED:20230309T140425Z
UID:10000015-1681408800-1681419600@www.goteborgsgk.org
SUMMARY:Tävlingsledarutbildning 18:00-21:00
DESCRIPTION:Läs mer om utbildningen här.
URL:https://www.goteborgsgk.org/kalender/tavlingsledarutbildning-1800-2100/
CATEGORIES:Kalender
END:VEVENT
BEGIN:VEVENT
DTSTART;TZID=Europe/Stockholm:20230410T080000
DTEND;TZID=Europe/Stockholm:20230410T100000
DTSTAMP:20260421T210006
CREATED:20230606T053803Z
LAST-MODIFIED:20230606T054130Z
UID:10000142-1681113600-1681120800@www.goteborgsgk.org
SUMMARY:Drivingrange avstängd för röjning
DESCRIPTION:
URL:https://www.goteborgsgk.org/kalender/drivingrange-avstangd-for-rojning/
CATEGORIES:Träningsområden
END:VEVENT
BEGIN:VEVENT
DTSTART;TZID=Europe/Stockholm:20230401T000000
DTEND;TZID=Europe/Stockholm:20230401T235959
DTSTAMP:20260421T210006
CREATED:20230302T140721Z
LAST-MODIFIED:20230406T121859Z
UID:10000017-1680307200-1680393599@www.goteborgsgk.org
SUMMARY:Städdagen INSTÄLLD!
DESCRIPTION:Lördag den första april var det planerat att vårstäda banan. Dessvärre ser väderleken inte lovande ut med en kall natt mellan fredag och lördag samt fortsatt kyla under lördagens förmiddag. Vi har därför beslutat att ställa in städdagen och återkommer med information via nyhetsbrev om det blir någon aktivitet vid senare tillfälle.
URL:https://www.goteborgsgk.org/kalender/staddag/
CATEGORIES:Kalender
END:VEVENT
BEGIN:VEVENT
DTSTART;TZID=Europe/Stockholm:20230330T190000
DTEND;TZID=Europe/Stockholm:20230330T210000
DTSTAMP:20260421T210006
CREATED:20230210T091720Z
LAST-MODIFIED:20230405T081532Z
UID:10000013-1680202800-1680210000@www.goteborgsgk.org
SUMMARY:Årsmöte
DESCRIPTION:
URL:https://www.goteborgsgk.org/kalender/arsmote/
CATEGORIES:Kalender
END:VEVENT
BEGIN:VEVENT
DTSTART;TZID=Europe/Stockholm:20230330T000000
DTEND;TZID=Europe/Stockholm:20230330T235959
DTSTAMP:20260421T210006
CREATED:20230209T131511Z
LAST-MODIFIED:20230405T081539Z
UID:10000012-1680134400-1680220799@www.goteborgsgk.org
SUMMARY:Drivingrangen öppnar
DESCRIPTION:
URL:https://www.goteborgsgk.org/kalender/drivingrangen-oppnar/
CATEGORIES:Kalender
END:VEVENT
BEGIN:VEVENT
DTSTART;TZID=Europe/Stockholm:20230220T113000
DTEND;TZID=Europe/Stockholm:20230220T140000
DTSTAMP:20260421T210006
CREATED:20230209T131434Z
LAST-MODIFIED:20230405T081546Z
UID:10000011-1676892600-1676901600@www.goteborgsgk.org
SUMMARY:Hovås Golfkrog öppnar för året
DESCRIPTION:
URL:https://www.goteborgsgk.org/kalender/hovas-golfkrog-oppnar-for-aret/
CATEGORIES:Kalender
END:VEVENT
END:VCALENDAR