BEGIN:VCALENDAR
VERSION:2.0
PRODID:-//Göteborgs Golf Klubb - ECPv6.15.15//NONSGML v1.0//EN
CALSCALE:GREGORIAN
METHOD:PUBLISH
X-WR-CALNAME:Göteborgs Golf Klubb
X-ORIGINAL-URL:https://www.goteborgsgk.org
X-WR-CALDESC:Händelser för Göteborgs Golf Klubb
REFRESH-INTERVAL;VALUE=DURATION:PT1H
X-Robots-Tag:noindex
X-PUBLISHED-TTL:PT1H
BEGIN:VTIMEZONE
TZID:Europe/Stockholm
BEGIN:DAYLIGHT
TZOFFSETFROM:+0100
TZOFFSETTO:+0200
TZNAME:CEST
DTSTART:20220327T010000
END:DAYLIGHT
BEGIN:STANDARD
TZOFFSETFROM:+0200
TZOFFSETTO:+0100
TZNAME:CET
DTSTART:20221030T010000
END:STANDARD
BEGIN:DAYLIGHT
TZOFFSETFROM:+0100
TZOFFSETTO:+0200
TZNAME:CEST
DTSTART:20230326T010000
END:DAYLIGHT
BEGIN:STANDARD
TZOFFSETFROM:+0200
TZOFFSETTO:+0100
TZNAME:CET
DTSTART:20231029T010000
END:STANDARD
BEGIN:DAYLIGHT
TZOFFSETFROM:+0100
TZOFFSETTO:+0200
TZNAME:CEST
DTSTART:20240331T010000
END:DAYLIGHT
BEGIN:STANDARD
TZOFFSETFROM:+0200
TZOFFSETTO:+0100
TZNAME:CET
DTSTART:20241027T010000
END:STANDARD
END:VTIMEZONE
BEGIN:VEVENT
DTSTART;TZID=Europe/Stockholm:20231016T091500
DTEND;TZID=Europe/Stockholm:20231016T104500
DTSTAMP:20260420T154730
CREATED:20231012T110714Z
LAST-MODIFIED:20231012T110715Z
UID:10000281-1697447700-1697453100@www.goteborgsgk.org
SUMMARY:Rangen avstängd pga rangeröj
DESCRIPTION:
URL:https://www.goteborgsgk.org/kalender/rangen-avstangd-pga-rangeroj/
CATEGORIES:Träningsområden
END:VEVENT
BEGIN:VEVENT
DTSTART;TZID=Europe/Stockholm:20231016T060000
DTEND;TZID=Europe/Stockholm:20231016T090000
DTSTAMP:20260420T154730
CREATED:20230702T211103Z
LAST-MODIFIED:20230702T211103Z
UID:10000219-1697436000-1697446800@www.goteborgsgk.org
SUMMARY:Drivingrange stängd\, klippning
DESCRIPTION:Alla bollar samlas in och rangen klipps varje måndag kl 06.00-09.00 under säsong.
URL:https://www.goteborgsgk.org/kalender/drivingrange-stangd-klippning-6/2023-10-16/
CATEGORIES:Träningsområden
END:VEVENT
BEGIN:VEVENT
DTSTART;TZID=Europe/Stockholm:20231009T060000
DTEND;TZID=Europe/Stockholm:20231009T090000
DTSTAMP:20260420T154730
CREATED:20230702T211103Z
LAST-MODIFIED:20230702T211103Z
UID:10000218-1696831200-1696842000@www.goteborgsgk.org
SUMMARY:Drivingrange stängd\, klippning
DESCRIPTION:Alla bollar samlas in och rangen klipps varje måndag kl 06.00-09.00 under säsong.
URL:https://www.goteborgsgk.org/kalender/drivingrange-stangd-klippning-6/2023-10-09/
CATEGORIES:Träningsområden
END:VEVENT
BEGIN:VEVENT
DTSTART;TZID=Europe/Stockholm:20231002T060000
DTEND;TZID=Europe/Stockholm:20231002T090000
DTSTAMP:20260420T154730
CREATED:20230702T211103Z
LAST-MODIFIED:20230702T211103Z
UID:10000217-1696226400-1696237200@www.goteborgsgk.org
SUMMARY:Drivingrange stängd\, klippning
DESCRIPTION:Alla bollar samlas in och rangen klipps varje måndag kl 06.00-09.00 under säsong.
URL:https://www.goteborgsgk.org/kalender/drivingrange-stangd-klippning-6/2023-10-02/
CATEGORIES:Träningsområden
END:VEVENT
BEGIN:VEVENT
DTSTART;TZID=Europe/Stockholm:20230925T060000
DTEND;TZID=Europe/Stockholm:20230925T090000
DTSTAMP:20260420T154730
CREATED:20230702T211103Z
LAST-MODIFIED:20230702T211103Z
UID:10000216-1695621600-1695632400@www.goteborgsgk.org
SUMMARY:Drivingrange stängd\, klippning
DESCRIPTION:Alla bollar samlas in och rangen klipps varje måndag kl 06.00-09.00 under säsong.
URL:https://www.goteborgsgk.org/kalender/drivingrange-stangd-klippning-6/2023-09-25/
CATEGORIES:Träningsområden
END:VEVENT
BEGIN:VEVENT
DTSTART;TZID=Europe/Stockholm:20230919T094500
DTEND;TZID=Europe/Stockholm:20230919T114500
DTSTAMP:20260420T154730
CREATED:20230919T060728Z
LAST-MODIFIED:20230919T060729Z
UID:10000279-1695116700-1695123900@www.goteborgsgk.org
SUMMARY:Driving-range stängd för klippning
DESCRIPTION:
URL:https://www.goteborgsgk.org/kalender/driving-range-stangd-for-klippning/
CATEGORIES:Träningsområden
END:VEVENT
BEGIN:VEVENT
DTSTART;TZID=Europe/Stockholm:20230918T060000
DTEND;TZID=Europe/Stockholm:20230918T090000
DTSTAMP:20260420T154730
CREATED:20230702T211103Z
LAST-MODIFIED:20230702T211103Z
UID:10000215-1695016800-1695027600@www.goteborgsgk.org
SUMMARY:Drivingrange stängd\, klippning
DESCRIPTION:Alla bollar samlas in och rangen klipps varje måndag kl 06.00-09.00 under säsong.
URL:https://www.goteborgsgk.org/kalender/drivingrange-stangd-klippning-6/2023-09-18/
CATEGORIES:Träningsområden
END:VEVENT
BEGIN:VEVENT
DTSTART;TZID=Europe/Stockholm:20230913T153000
DTEND;TZID=Europe/Stockholm:20230913T183000
DTSTAMP:20260420T154730
CREATED:20230913T124628Z
LAST-MODIFIED:20230913T124630Z
UID:10000278-1694619000-1694629800@www.goteborgsgk.org
SUMMARY:Range juniorträning
DESCRIPTION:Matta 3-12 reserverad för juniorträning.
URL:https://www.goteborgsgk.org/kalender/range-juniortraning-10/
CATEGORIES:Träningsområden
END:VEVENT
BEGIN:VEVENT
DTSTART;TZID=Europe/Stockholm:20230911T153000
DTEND;TZID=Europe/Stockholm:20230911T203000
DTSTAMP:20260420T154730
CREATED:20230911T123344Z
LAST-MODIFIED:20230911T123346Z
UID:10000277-1694446200-1694464200@www.goteborgsgk.org
SUMMARY:Range juniorträning
DESCRIPTION:Matta 3-12 reserverad för juniorträning
URL:https://www.goteborgsgk.org/kalender/range-juniortraning-9/
CATEGORIES:Träningsområden
END:VEVENT
BEGIN:VEVENT
DTSTART;TZID=Europe/Stockholm:20230911T060000
DTEND;TZID=Europe/Stockholm:20230911T090000
DTSTAMP:20260420T154730
CREATED:20230702T211103Z
LAST-MODIFIED:20230702T211103Z
UID:10000214-1694412000-1694422800@www.goteborgsgk.org
SUMMARY:Drivingrange stängd\, klippning
DESCRIPTION:Alla bollar samlas in och rangen klipps varje måndag kl 06.00-09.00 under säsong.
URL:https://www.goteborgsgk.org/kalender/drivingrange-stangd-klippning-6/2023-09-11/
CATEGORIES:Träningsområden
END:VEVENT
BEGIN:VEVENT
DTSTART;TZID=Europe/Stockholm:20230906T160000
DTEND;TZID=Europe/Stockholm:20230906T170000
DTSTAMP:20260420T154730
CREATED:20230906T111033Z
LAST-MODIFIED:20230906T111035Z
UID:10000276-1694016000-1694019600@www.goteborgsgk.org
SUMMARY:Range juniorträning
DESCRIPTION:Matta 3-12 reserverad för juniorträning.
URL:https://www.goteborgsgk.org/kalender/range-juniortraning-8/
CATEGORIES:Träningsområden
END:VEVENT
BEGIN:VEVENT
DTSTART;TZID=Europe/Stockholm:20230906T153000
DTEND;TZID=Europe/Stockholm:20230906T183000
DTSTAMP:20260420T154730
CREATED:20230906T110632Z
LAST-MODIFIED:20230906T110634Z
UID:10000275-1694014200-1694025000@www.goteborgsgk.org
SUMMARY:Närspel juniorträning
DESCRIPTION:Begränsad tillgång till närspel. En övningsgreen är alltid öppen för medlemmen.
URL:https://www.goteborgsgk.org/kalender/narspel-juniortraning-19/
CATEGORIES:Träningsområden
END:VEVENT
BEGIN:VEVENT
DTSTART;TZID=Europe/Stockholm:20230905T193000
DTEND;TZID=Europe/Stockholm:20230905T203000
DTSTAMP:20260420T154730
CREATED:20230905T141850Z
LAST-MODIFIED:20230905T141852Z
UID:10000274-1693942200-1693945800@www.goteborgsgk.org
SUMMARY:Träningskortet puttning
DESCRIPTION:Stora puttinggreenen är reserverad under den här tiden.
URL:https://www.goteborgsgk.org/kalender/traningskortet-puttning-3/
CATEGORIES:Träningsområden
END:VEVENT
BEGIN:VEVENT
DTSTART;TZID=Europe/Stockholm:20230904T153000
DTEND;TZID=Europe/Stockholm:20230904T203000
DTSTAMP:20260420T154730
CREATED:20230904T132401Z
LAST-MODIFIED:20230904T132403Z
UID:10000273-1693841400-1693859400@www.goteborgsgk.org
SUMMARY:Närspel juniorträning
DESCRIPTION:Begränsad tillgång till närspel. En övningsgreen är alltid öppen för medlemmen.
URL:https://www.goteborgsgk.org/kalender/narspel-juniortraning-18/
CATEGORIES:Träningsområden
END:VEVENT
BEGIN:VEVENT
DTSTART;TZID=Europe/Stockholm:20230904T153000
DTEND;TZID=Europe/Stockholm:20230904T180000
DTSTAMP:20260420T154730
CREATED:20230904T132149Z
LAST-MODIFIED:20230904T132151Z
UID:10000272-1693841400-1693850400@www.goteborgsgk.org
SUMMARY:Range juniorträning
DESCRIPTION:Juniorträning\, matta 3-12 reserverad.
URL:https://www.goteborgsgk.org/kalender/range-juniortraning-7/
CATEGORIES:Träningsområden
END:VEVENT
BEGIN:VEVENT
DTSTART;TZID=Europe/Stockholm:20230904T060000
DTEND;TZID=Europe/Stockholm:20230904T090000
DTSTAMP:20260420T154730
CREATED:20230702T211103Z
LAST-MODIFIED:20230702T211103Z
UID:10000213-1693807200-1693818000@www.goteborgsgk.org
SUMMARY:Drivingrange stängd\, klippning
DESCRIPTION:Alla bollar samlas in och rangen klipps varje måndag kl 06.00-09.00 under säsong.
URL:https://www.goteborgsgk.org/kalender/drivingrange-stangd-klippning-6/2023-09-04/
CATEGORIES:Träningsområden
END:VEVENT
BEGIN:VEVENT
DTSTART;TZID=Europe/Stockholm:20230903T121500
DTEND;TZID=Europe/Stockholm:20230903T131500
DTSTAMP:20260420T154730
CREATED:20230903T063757Z
LAST-MODIFIED:20230903T063758Z
UID:10000271-1693743300-1693746900@www.goteborgsgk.org
SUMMARY:Rangen avstängd
DESCRIPTION:Rangen är avstängd mellan 12:15-13:15 för underhåll.
URL:https://www.goteborgsgk.org/kalender/rangen-avstangd-4/
CATEGORIES:Träningsområden
END:VEVENT
BEGIN:VEVENT
DTSTART;TZID=Europe/Stockholm:20230903T100000
DTEND;TZID=Europe/Stockholm:20230903T120000
DTSTAMP:20260420T154730
CREATED:20230903T063139Z
LAST-MODIFIED:20230903T063141Z
UID:10000270-1693735200-1693742400@www.goteborgsgk.org
SUMMARY:Temakurs Närspel
DESCRIPTION:Temakurs med fokus på Närspel. Nya och Gamla närspelsgreenen är reserverade för kursen.
URL:https://www.goteborgsgk.org/kalender/temakurs-narspel/
CATEGORIES:Träningsområden
END:VEVENT
BEGIN:VEVENT
DTSTART;TZID=Europe/Stockholm:20230901T100000
DTEND;TZID=Europe/Stockholm:20230901T120000
DTSTAMP:20260420T154730
CREATED:20230828T111518Z
LAST-MODIFIED:20230828T111520Z
UID:10000269-1693562400-1693569600@www.goteborgsgk.org
SUMMARY:Kurs på rangen
DESCRIPTION:Kurs på rangen. Matta 4-12 är reserverade för träning under den här perioden.
URL:https://www.goteborgsgk.org/kalender/kurs-pa-rangen/
CATEGORIES:Träningsområden
END:VEVENT
BEGIN:VEVENT
DTSTART;TZID=Europe/Stockholm:20230831T183000
DTEND;TZID=Europe/Stockholm:20230831T203000
DTSTAMP:20260420T154730
CREATED:20230828T110308Z
LAST-MODIFIED:20230828T110310Z
UID:10000266-1693506600-1693513800@www.goteborgsgk.org
SUMMARY:Närspel vuxenträning
DESCRIPTION:Begränsad tillgång till närspel. En green är alltid öppen för medlemmen.
URL:https://www.goteborgsgk.org/kalender/narspel-vuxentraning/
CATEGORIES:Träningsområden
END:VEVENT
BEGIN:VEVENT
DTSTART;TZID=Europe/Stockholm:20230831T153000
DTEND;TZID=Europe/Stockholm:20230831T203000
DTSTAMP:20260420T154730
CREATED:20230828T110117Z
LAST-MODIFIED:20230828T110118Z
UID:10000264-1693495800-1693513800@www.goteborgsgk.org
SUMMARY:Range juniorträning
DESCRIPTION:Matta 3-12 reserverad för juniorträning.
URL:https://www.goteborgsgk.org/kalender/range-juniortraning-6/
CATEGORIES:Träningsområden
END:VEVENT
BEGIN:VEVENT
DTSTART;TZID=Europe/Stockholm:20230831T153000
DTEND;TZID=Europe/Stockholm:20230831T183000
DTSTAMP:20260420T154730
CREATED:20230828T110219Z
LAST-MODIFIED:20230828T110220Z
UID:10000265-1693495800-1693506600@www.goteborgsgk.org
SUMMARY:Närspel juniorträning
DESCRIPTION:Begränsad tillgång till närspel. En green är alltid öppen för medlemmen.
URL:https://www.goteborgsgk.org/kalender/narspel-juniortraning-17/
CATEGORIES:Träningsområden
END:VEVENT
BEGIN:VEVENT
DTSTART;TZID=Europe/Stockholm:20230831T123000
DTEND;TZID=Europe/Stockholm:20230831T133000
DTSTAMP:20260420T154730
CREATED:20230828T111037Z
LAST-MODIFIED:20230828T111039Z
UID:10000268-1693485000-1693488600@www.goteborgsgk.org
SUMMARY:Träningskortet puttning
DESCRIPTION:Stora puttinggreenen på närspelsområdet är reserverat under den här tiden.
URL:https://www.goteborgsgk.org/kalender/traningskortet-puttning-2/
CATEGORIES:Träningsområden
END:VEVENT
BEGIN:VEVENT
DTSTART;TZID=Europe/Stockholm:20230830T160000
DTEND;TZID=Europe/Stockholm:20230830T170000
DTSTAMP:20260420T154730
CREATED:20230828T105611Z
LAST-MODIFIED:20230828T105613Z
UID:10000262-1693411200-1693414800@www.goteborgsgk.org
SUMMARY:Närspel juniorträning
DESCRIPTION:Begränsad tillgång till närspel. En green är alltid öppen för medlem som vill träna.
URL:https://www.goteborgsgk.org/kalender/narspel-juniortraning-16/
CATEGORIES:Träningsområden
END:VEVENT
BEGIN:VEVENT
DTSTART;TZID=Europe/Stockholm:20230830T153000
DTEND;TZID=Europe/Stockholm:20230830T183000
DTSTAMP:20260420T154730
CREATED:20230828T110010Z
LAST-MODIFIED:20230828T110012Z
UID:10000263-1693409400-1693420200@www.goteborgsgk.org
SUMMARY:Range juniorträning
DESCRIPTION:Matta 3-12 reserverad för juniorträning.
URL:https://www.goteborgsgk.org/kalender/range-juniortraning-5/
CATEGORIES:Träningsområden
END:VEVENT
BEGIN:VEVENT
DTSTART;TZID=Europe/Stockholm:20230829T193000
DTEND;TZID=Europe/Stockholm:20230829T203000
DTSTAMP:20260420T154730
CREATED:20230828T095844Z
LAST-MODIFIED:20230828T095846Z
UID:10000261-1693337400-1693341000@www.goteborgsgk.org
SUMMARY:Träningskortet range
DESCRIPTION:Matta 5-10 reserverade för träningskortet under den här tidsperioden.
URL:https://www.goteborgsgk.org/kalender/traningskortet-range-2/
CATEGORIES:Träningsområden
END:VEVENT
BEGIN:VEVENT
DTSTART;TZID=Europe/Stockholm:20230829T180000
DTEND;TZID=Europe/Stockholm:20230829T190000
DTSTAMP:20260420T154730
CREATED:20230828T095721Z
LAST-MODIFIED:20230828T095723Z
UID:10000260-1693332000-1693335600@www.goteborgsgk.org
SUMMARY:Rangen avstängd
DESCRIPTION:Rangen är avstängd under den här tiden för insamling av bollar som rangebilen inte kommer åt.
URL:https://www.goteborgsgk.org/kalender/rangen-avstangd-3/
CATEGORIES:Träningsområden
END:VEVENT
BEGIN:VEVENT
DTSTART;TZID=Europe/Stockholm:20230829T123000
DTEND;TZID=Europe/Stockholm:20230829T133000
DTSTAMP:20260420T154730
CREATED:20230828T110434Z
LAST-MODIFIED:20230828T110435Z
UID:10000267-1693312200-1693315800@www.goteborgsgk.org
SUMMARY:Träningskortet bunker
DESCRIPTION:Bunkern vid gamla övningsgreenen är reserverad under den här tiden.
URL:https://www.goteborgsgk.org/kalender/traningskortet-bunker-2/
CATEGORIES:Träningsområden
END:VEVENT
BEGIN:VEVENT
DTSTART;TZID=Europe/Stockholm:20230828T173000
DTEND;TZID=Europe/Stockholm:20230828T183000
DTSTAMP:20260420T154730
CREATED:20230825T140759Z
LAST-MODIFIED:20230825T140800Z
UID:10000259-1693243800-1693247400@www.goteborgsgk.org
SUMMARY:Träningskortet närspel
DESCRIPTION:Begränsad tillgång till närspelet under den här tiden.
URL:https://www.goteborgsgk.org/kalender/traningskortet-narspel-2/
CATEGORIES:Träningsområden
END:VEVENT
BEGIN:VEVENT
DTSTART;TZID=Europe/Stockholm:20230828T153000
DTEND;TZID=Europe/Stockholm:20230828T203000
DTSTAMP:20260420T154730
CREATED:20230825T140404Z
LAST-MODIFIED:20230825T140405Z
UID:10000257-1693236600-1693254600@www.goteborgsgk.org
SUMMARY:Range juniorträning
DESCRIPTION:Matta 3-12 reserverad för juniorträning
URL:https://www.goteborgsgk.org/kalender/range-juniortraning-4/
CATEGORIES:Träningsområden
END:VEVENT
END:VCALENDAR