BEGIN:VCALENDAR
VERSION:2.0
PRODID:-//Göteborgs Golf Klubb - ECPv6.15.15//NONSGML v1.0//EN
CALSCALE:GREGORIAN
METHOD:PUBLISH
X-WR-CALNAME:Göteborgs Golf Klubb
X-ORIGINAL-URL:https://www.goteborgsgk.org
X-WR-CALDESC:Händelser för Göteborgs Golf Klubb
REFRESH-INTERVAL;VALUE=DURATION:PT1H
X-Robots-Tag:noindex
X-PUBLISHED-TTL:PT1H
BEGIN:VTIMEZONE
TZID:Europe/Stockholm
BEGIN:DAYLIGHT
TZOFFSETFROM:+0100
TZOFFSETTO:+0200
TZNAME:CEST
DTSTART:20220327T010000
END:DAYLIGHT
BEGIN:STANDARD
TZOFFSETFROM:+0200
TZOFFSETTO:+0100
TZNAME:CET
DTSTART:20221030T010000
END:STANDARD
BEGIN:DAYLIGHT
TZOFFSETFROM:+0100
TZOFFSETTO:+0200
TZNAME:CEST
DTSTART:20230326T010000
END:DAYLIGHT
BEGIN:STANDARD
TZOFFSETFROM:+0200
TZOFFSETTO:+0100
TZNAME:CET
DTSTART:20231029T010000
END:STANDARD
BEGIN:DAYLIGHT
TZOFFSETFROM:+0100
TZOFFSETTO:+0200
TZNAME:CEST
DTSTART:20240331T010000
END:DAYLIGHT
BEGIN:STANDARD
TZOFFSETFROM:+0200
TZOFFSETTO:+0100
TZNAME:CET
DTSTART:20241027T010000
END:STANDARD
END:VTIMEZONE
BEGIN:VEVENT
DTSTART;TZID=Europe/Stockholm:20230605T153000
DTEND;TZID=Europe/Stockholm:20230605T203000
DTSTAMP:20260422T033629
CREATED:20230425T061127Z
LAST-MODIFIED:20230425T061127Z
UID:10000070-1685979000-1685997000@www.goteborgsgk.org
SUMMARY:Närspel juniorträning
DESCRIPTION:Begränsad tillgång till närspel. En övningsgreen är alltid öppen för medlemmen.
URL:https://www.goteborgsgk.org/kalender/narspel-juniortraning-4/2023-06-05/
CATEGORIES:Träningsområden
END:VEVENT
BEGIN:VEVENT
DTSTART;TZID=Europe/Stockholm:20230605T153000
DTEND;TZID=Europe/Stockholm:20230605T183000
DTSTAMP:20260422T033629
CREATED:20230425T094430Z
LAST-MODIFIED:20230425T094430Z
UID:10000092-1685979000-1685989800@www.goteborgsgk.org
SUMMARY:Drivingrange juniorträning
DESCRIPTION:Matta 1-10 är reserverade för juniorträning.
URL:https://www.goteborgsgk.org/kalender/drivingrange-juniortraning-2/2023-06-05/
CATEGORIES:Träningsområden
END:VEVENT
BEGIN:VEVENT
DTSTART;TZID=Europe/Stockholm:20230605T060000
DTEND;TZID=Europe/Stockholm:20230605T080000
DTSTAMP:20260422T033629
CREATED:20230517T085937Z
LAST-MODIFIED:20230517T085938Z
UID:10000115-1685944800-1685952000@www.goteborgsgk.org
SUMMARY:Drivingrange stängd\, klippning
DESCRIPTION:Alla bollar samlas in och rangen klipps varje måndag kl 06.00-08.00 under säsong.
URL:https://www.goteborgsgk.org/kalender/drivingrange-stangd-klippning/2023-06-05/
CATEGORIES:Träningsområden
END:VEVENT
BEGIN:VEVENT
DTSTART;TZID=Europe/Stockholm:20230602T103000
DTEND;TZID=Europe/Stockholm:20230602T120000
DTSTAMP:20260422T033629
CREATED:20230601T112111Z
LAST-MODIFIED:20230601T112131Z
UID:10000140-1685701800-1685707200@www.goteborgsgk.org
SUMMARY:Drivingrange Damläger
DESCRIPTION:Matta 1-10 är reserverade för damläger.
URL:https://www.goteborgsgk.org/kalender/drivingrange/
CATEGORIES:Träningsområden
END:VEVENT
BEGIN:VEVENT
DTSTART;TZID=Europe/Stockholm:20230602T090000
DTEND;TZID=Europe/Stockholm:20230602T103000
DTSTAMP:20260422T033629
CREATED:20230601T111944Z
LAST-MODIFIED:20230601T111945Z
UID:10000139-1685696400-1685701800@www.goteborgsgk.org
SUMMARY:Närspel Damläger
DESCRIPTION:Begränsad tillgång till närspel.
URL:https://www.goteborgsgk.org/kalender/narspel-damlager-2/
CATEGORIES:Träningsområden
END:VEVENT
BEGIN:VEVENT
DTSTART;TZID=Europe/Stockholm:20230601T153000
DTEND;TZID=Europe/Stockholm:20230601T203000
DTSTAMP:20260422T033629
CREATED:20230425T060757Z
LAST-MODIFIED:20230425T060757Z
UID:10000066-1685633400-1685651400@www.goteborgsgk.org
SUMMARY:Drivingrange juniorträning
DESCRIPTION:Matta 1-10 är reserverade för juniorträning
URL:https://www.goteborgsgk.org/kalender/drivingrange-juniortraning-6/2023-06-01/
CATEGORIES:Träningsområden
END:VEVENT
BEGIN:VEVENT
DTSTART;TZID=Europe/Stockholm:20230601T153000
DTEND;TZID=Europe/Stockholm:20230601T183000
DTSTAMP:20260422T033629
CREATED:20230425T060717Z
LAST-MODIFIED:20230425T060717Z
UID:10000062-1685633400-1685644200@www.goteborgsgk.org
SUMMARY:Närspel juniorträning
DESCRIPTION:Begränsad tillgång till närspel. En övningsgreen är alltid öppen för medlemmen.
URL:https://www.goteborgsgk.org/kalender/narspel-juniortraning-2/2023-06-01/
CATEGORIES:Träningsområden
END:VEVENT
BEGIN:VEVENT
DTSTART;TZID=Europe/Stockholm:20230601T123000
DTEND;TZID=Europe/Stockholm:20230601T133000
DTSTAMP:20260422T033629
CREATED:20230601T095704Z
LAST-MODIFIED:20230601T095705Z
UID:10000138-1685622600-1685626200@www.goteborgsgk.org
SUMMARY:Träningskortet 12.30-13.30
DESCRIPTION:Träningskortet Chip/Pitch Nya greenen
URL:https://www.goteborgsgk.org/kalender/traningskortet-12-30-13-30/
END:VEVENT
BEGIN:VEVENT
DTSTART;TZID=Europe/Stockholm:20230531T160000
DTEND;TZID=Europe/Stockholm:20230531T170000
DTSTAMP:20260422T033629
CREATED:20230425T060052Z
LAST-MODIFIED:20230425T060052Z
UID:10000058-1685548800-1685552400@www.goteborgsgk.org
SUMMARY:Närspel juniorträning
DESCRIPTION:Begränsad tillgång till närspel. En övningsgreen är alltid öppen för medlemmen.
URL:https://www.goteborgsgk.org/kalender/narspel-juniortraning-7/2023-05-31/
CATEGORIES:Träningsområden
END:VEVENT
BEGIN:VEVENT
DTSTART;TZID=Europe/Stockholm:20230531T153000
DTEND;TZID=Europe/Stockholm:20230531T183000
DTSTAMP:20260422T033629
CREATED:20230425T055932Z
LAST-MODIFIED:20230425T055932Z
UID:10000054-1685547000-1685557800@www.goteborgsgk.org
SUMMARY:Drivingrange juniorträning
DESCRIPTION:Matta 1-10 är reserverade för juniorträning
URL:https://www.goteborgsgk.org/kalender/drivingrange-juniortraning-5/2023-05-31/
CATEGORIES:Träningsområden
END:VEVENT
BEGIN:VEVENT
DTSTART;TZID=Europe/Stockholm:20230530T103000
DTEND;TZID=Europe/Stockholm:20230530T120000
DTSTAMP:20260422T033629
CREATED:20230530T064408Z
LAST-MODIFIED:20230530T064548Z
UID:10000137-1685442600-1685448000@www.goteborgsgk.org
SUMMARY:Drivingrange Damläger
DESCRIPTION:Matta 1-10 är reserverade för damläger.
URL:https://www.goteborgsgk.org/kalender/drivingrange-damlager/
CATEGORIES:Träningsområden
END:VEVENT
BEGIN:VEVENT
DTSTART;TZID=Europe/Stockholm:20230530T090000
DTEND;TZID=Europe/Stockholm:20230530T103000
DTSTAMP:20260422T033629
CREATED:20230530T064240Z
LAST-MODIFIED:20230530T064241Z
UID:10000136-1685437200-1685442600@www.goteborgsgk.org
SUMMARY:Närspel Damläger
DESCRIPTION:Begränsad tillgång till närspel.
URL:https://www.goteborgsgk.org/kalender/narspel-damlager/
CATEGORIES:Träningsområden
END:VEVENT
BEGIN:VEVENT
DTSTART;TZID=Europe/Stockholm:20230529T153000
DTEND;TZID=Europe/Stockholm:20230529T203000
DTSTAMP:20260422T033629
CREATED:20230425T055432Z
LAST-MODIFIED:20230425T055432Z
UID:10000046-1685374200-1685392200@www.goteborgsgk.org
SUMMARY:Drivingrange juniorträning
DESCRIPTION:Matta 1-10 är reserverade för juniorträning
URL:https://www.goteborgsgk.org/kalender/drivingrange-juniortraning-4/2023-05-29/
CATEGORIES:Träningsområden
END:VEVENT
BEGIN:VEVENT
DTSTART;TZID=Europe/Stockholm:20230529T153000
DTEND;TZID=Europe/Stockholm:20230529T183000
DTSTAMP:20260422T033629
CREATED:20230425T055626Z
LAST-MODIFIED:20230425T055626Z
UID:10000050-1685374200-1685385000@www.goteborgsgk.org
SUMMARY:Närspel juniorträning
DESCRIPTION:Begränsad tillgång till närspel. En övningsgreen är alltid öppen för medlemmen.
URL:https://www.goteborgsgk.org/kalender/narspel-juniortraning-6/2023-05-29/
CATEGORIES:Träningsområden
END:VEVENT
BEGIN:VEVENT
DTSTART;TZID=Europe/Stockholm:20230529T080000
DTEND;TZID=Europe/Stockholm:20230529T103000
DTSTAMP:20260422T033629
CREATED:20230529T033710Z
LAST-MODIFIED:20230529T033712Z
UID:10000135-1685347200-1685356200@www.goteborgsgk.org
SUMMARY:Drivingrang stängd\, rensning
DESCRIPTION:
URL:https://www.goteborgsgk.org/kalender/drivingrang-stangd-rensning/
CATEGORIES:Träningsområden
END:VEVENT
BEGIN:VEVENT
DTSTART;TZID=Europe/Stockholm:20230529T060000
DTEND;TZID=Europe/Stockholm:20230529T080000
DTSTAMP:20260422T033629
CREATED:20230517T085937Z
LAST-MODIFIED:20230517T085938Z
UID:10000114-1685340000-1685347200@www.goteborgsgk.org
SUMMARY:Drivingrange stängd\, klippning
DESCRIPTION:Alla bollar samlas in och rangen klipps varje måndag kl 06.00-08.00 under säsong.
URL:https://www.goteborgsgk.org/kalender/drivingrange-stangd-klippning/2023-05-29/
CATEGORIES:Träningsområden
END:VEVENT
BEGIN:VEVENT
DTSTART;TZID=Europe/Stockholm:20230528T080000
DTEND;TZID=Europe/Stockholm:20230528T170000
DTSTAMP:20260422T033629
CREATED:20230508T112106Z
LAST-MODIFIED:20230508T112108Z
UID:10000110-1685260800-1685293200@www.goteborgsgk.org
SUMMARY:Närspel Juniorträning
DESCRIPTION:Begränsad tillgång till närspel. En övningsgreen är alltid öppen för medlemmen.
URL:https://www.goteborgsgk.org/kalender/narspel-juniortraning-10/2023-05-28/
CATEGORIES:Träningsområden
END:VEVENT
BEGIN:VEVENT
DTSTART;TZID=Europe/Stockholm:20230525T153000
DTEND;TZID=Europe/Stockholm:20230525T203000
DTSTAMP:20260422T033629
CREATED:20230425T061639Z
LAST-MODIFIED:20230425T061639Z
UID:10000085-1685028600-1685046600@www.goteborgsgk.org
SUMMARY:Drivingrange juniorträning
DESCRIPTION:Matta 1-10 är reserverade för juniorträning
URL:https://www.goteborgsgk.org/kalender/drivingrange-juniortraning/2023-05-25/
CATEGORIES:Träningsområden
END:VEVENT
BEGIN:VEVENT
DTSTART;TZID=Europe/Stockholm:20230525T153000
DTEND;TZID=Europe/Stockholm:20230525T203000
DTSTAMP:20260422T033629
CREATED:20230425T061542Z
LAST-MODIFIED:20230425T061542Z
UID:10000081-1685028600-1685046600@www.goteborgsgk.org
SUMMARY:Närspel juniorträning
DESCRIPTION:Begränsad tillgång till närspel. En övningsgreen är alltid öppen för medlemmen.
URL:https://www.goteborgsgk.org/kalender/narspel-juniortraning-3/2023-05-25/
CATEGORIES:Träningsområden
END:VEVENT
BEGIN:VEVENT
DTSTART;TZID=Europe/Stockholm:20230524T160000
DTEND;TZID=Europe/Stockholm:20230524T170000
DTSTAMP:20260422T033629
CREATED:20230425T061410Z
LAST-MODIFIED:20230425T061410Z
UID:10000077-1684944000-1684947600@www.goteborgsgk.org
SUMMARY:Drivingrange juniorträning
DESCRIPTION:Matta 1-10 är reserverade för juniorträning
URL:https://www.goteborgsgk.org/kalender/drivingrange-juniortraning-7/2023-05-24/
CATEGORIES:Träningsområden
END:VEVENT
BEGIN:VEVENT
DTSTART;TZID=Europe/Stockholm:20230524T153000
DTEND;TZID=Europe/Stockholm:20230524T183000
DTSTAMP:20260422T033629
CREATED:20230425T061310Z
LAST-MODIFIED:20230425T061310Z
UID:10000073-1684942200-1684953000@www.goteborgsgk.org
SUMMARY:Närspel juniorträning
DESCRIPTION:Begränsad tillgång till närspel. En övningsgreen är alltid öppen för medlemmen.
URL:https://www.goteborgsgk.org/kalender/narspel-juniortraning/2023-05-24/
CATEGORIES:Träningsområden
END:VEVENT
BEGIN:VEVENT
DTSTART;TZID=Europe/Stockholm:20230522T153000
DTEND;TZID=Europe/Stockholm:20230522T203000
DTSTAMP:20260422T033629
CREATED:20230425T061127Z
LAST-MODIFIED:20230425T061127Z
UID:10000069-1684769400-1684787400@www.goteborgsgk.org
SUMMARY:Närspel juniorträning
DESCRIPTION:Begränsad tillgång till närspel. En övningsgreen är alltid öppen för medlemmen.
URL:https://www.goteborgsgk.org/kalender/narspel-juniortraning-4/2023-05-22/
CATEGORIES:Träningsområden
END:VEVENT
BEGIN:VEVENT
DTSTART;TZID=Europe/Stockholm:20230522T153000
DTEND;TZID=Europe/Stockholm:20230522T183000
DTSTAMP:20260422T033629
CREATED:20230425T094430Z
LAST-MODIFIED:20230425T094430Z
UID:10000091-1684769400-1684780200@www.goteborgsgk.org
SUMMARY:Drivingrange juniorträning
DESCRIPTION:Matta 1-10 är reserverade för juniorträning.
URL:https://www.goteborgsgk.org/kalender/drivingrange-juniortraning-2/2023-05-22/
CATEGORIES:Träningsområden
END:VEVENT
BEGIN:VEVENT
DTSTART;TZID=Europe/Stockholm:20230522T060000
DTEND;TZID=Europe/Stockholm:20230522T080000
DTSTAMP:20260422T033629
CREATED:20230517T085937Z
LAST-MODIFIED:20230517T085938Z
UID:10000113-1684735200-1684742400@www.goteborgsgk.org
SUMMARY:Drivingrange stängd\, klippning
DESCRIPTION:Alla bollar samlas in och rangen klipps varje måndag kl 06.00-08.00 under säsong.
URL:https://www.goteborgsgk.org/kalender/drivingrange-stangd-klippning/2023-05-22/
CATEGORIES:Träningsområden
END:VEVENT
BEGIN:VEVENT
DTSTART;TZID=Europe/Stockholm:20230521T080000
DTEND;TZID=Europe/Stockholm:20230521T170000
DTSTAMP:20260422T033629
CREATED:20230508T112106Z
LAST-MODIFIED:20230508T112108Z
UID:10000109-1684656000-1684688400@www.goteborgsgk.org
SUMMARY:Närspel Juniorträning
DESCRIPTION:Begränsad tillgång till närspel. En övningsgreen är alltid öppen för medlemmen.
URL:https://www.goteborgsgk.org/kalender/narspel-juniortraning-10/2023-05-21/
CATEGORIES:Träningsområden
END:VEVENT
BEGIN:VEVENT
DTSTART;TZID=Europe/Stockholm:20230518T153000
DTEND;TZID=Europe/Stockholm:20230518T203000
DTSTAMP:20260422T033629
CREATED:20230425T060757Z
LAST-MODIFIED:20230425T060757Z
UID:10000065-1684423800-1684441800@www.goteborgsgk.org
SUMMARY:Drivingrange juniorträning
DESCRIPTION:Matta 1-10 är reserverade för juniorträning
URL:https://www.goteborgsgk.org/kalender/drivingrange-juniortraning-6/2023-05-18/
CATEGORIES:Träningsområden
END:VEVENT
BEGIN:VEVENT
DTSTART;TZID=Europe/Stockholm:20230518T153000
DTEND;TZID=Europe/Stockholm:20230518T183000
DTSTAMP:20260422T033629
CREATED:20230425T060717Z
LAST-MODIFIED:20230425T060717Z
UID:10000061-1684423800-1684434600@www.goteborgsgk.org
SUMMARY:Närspel juniorträning
DESCRIPTION:Begränsad tillgång till närspel. En övningsgreen är alltid öppen för medlemmen.
URL:https://www.goteborgsgk.org/kalender/narspel-juniortraning-2/2023-05-18/
CATEGORIES:Träningsområden
END:VEVENT
BEGIN:VEVENT
DTSTART;TZID=Europe/Stockholm:20230517T160000
DTEND;TZID=Europe/Stockholm:20230517T170000
DTSTAMP:20260422T033629
CREATED:20230425T060052Z
LAST-MODIFIED:20230425T060052Z
UID:10000057-1684339200-1684342800@www.goteborgsgk.org
SUMMARY:Närspel juniorträning
DESCRIPTION:Begränsad tillgång till närspel. En övningsgreen är alltid öppen för medlemmen.
URL:https://www.goteborgsgk.org/kalender/narspel-juniortraning-7/2023-05-17/
CATEGORIES:Träningsområden
END:VEVENT
BEGIN:VEVENT
DTSTART;TZID=Europe/Stockholm:20230517T153000
DTEND;TZID=Europe/Stockholm:20230517T183000
DTSTAMP:20260422T033629
CREATED:20230425T055932Z
LAST-MODIFIED:20230425T055932Z
UID:10000053-1684337400-1684348200@www.goteborgsgk.org
SUMMARY:Drivingrange juniorträning
DESCRIPTION:Matta 1-10 är reserverade för juniorträning
URL:https://www.goteborgsgk.org/kalender/drivingrange-juniortraning-5/2023-05-17/
CATEGORIES:Träningsområden
END:VEVENT
BEGIN:VEVENT
DTSTART;TZID=Europe/Stockholm:20230515T153000
DTEND;TZID=Europe/Stockholm:20230515T203000
DTSTAMP:20260422T033629
CREATED:20230425T055432Z
LAST-MODIFIED:20230425T055432Z
UID:10000045-1684164600-1684182600@www.goteborgsgk.org
SUMMARY:Drivingrange juniorträning
DESCRIPTION:Matta 1-10 är reserverade för juniorträning
URL:https://www.goteborgsgk.org/kalender/drivingrange-juniortraning-4/2023-05-15/
CATEGORIES:Träningsområden
END:VEVENT
END:VCALENDAR