BEGIN:VCALENDAR
VERSION:2.0
PRODID:-//Göteborgs Golf Klubb - ECPv6.15.15//NONSGML v1.0//EN
CALSCALE:GREGORIAN
METHOD:PUBLISH
X-WR-CALNAME:Göteborgs Golf Klubb
X-ORIGINAL-URL:https://www.goteborgsgk.org
X-WR-CALDESC:Händelser för Göteborgs Golf Klubb
REFRESH-INTERVAL;VALUE=DURATION:PT1H
X-Robots-Tag:noindex
X-PUBLISHED-TTL:PT1H
BEGIN:VTIMEZONE
TZID:Europe/Stockholm
BEGIN:DAYLIGHT
TZOFFSETFROM:+0100
TZOFFSETTO:+0200
TZNAME:CEST
DTSTART:20230326T010000
END:DAYLIGHT
BEGIN:STANDARD
TZOFFSETFROM:+0200
TZOFFSETTO:+0100
TZNAME:CET
DTSTART:20231029T010000
END:STANDARD
BEGIN:DAYLIGHT
TZOFFSETFROM:+0100
TZOFFSETTO:+0200
TZNAME:CEST
DTSTART:20240331T010000
END:DAYLIGHT
BEGIN:STANDARD
TZOFFSETFROM:+0200
TZOFFSETTO:+0100
TZNAME:CET
DTSTART:20241027T010000
END:STANDARD
BEGIN:DAYLIGHT
TZOFFSETFROM:+0100
TZOFFSETTO:+0200
TZNAME:CEST
DTSTART:20250330T010000
END:DAYLIGHT
BEGIN:STANDARD
TZOFFSETFROM:+0200
TZOFFSETTO:+0100
TZNAME:CET
DTSTART:20251026T010000
END:STANDARD
BEGIN:DAYLIGHT
TZOFFSETFROM:+0100
TZOFFSETTO:+0200
TZNAME:CEST
DTSTART:20260329T010000
END:DAYLIGHT
BEGIN:STANDARD
TZOFFSETFROM:+0200
TZOFFSETTO:+0100
TZNAME:CET
DTSTART:20261025T010000
END:STANDARD
END:VTIMEZONE
BEGIN:VEVENT
DTSTART;TZID=Europe/Stockholm:20250421T193000
DTEND;TZID=Europe/Stockholm:20250421T203000
DTSTAMP:20260420T051408
CREATED:20250408T105222Z
LAST-MODIFIED:20250408T105223Z
UID:10001623-1745263800-1745267400@www.goteborgsgk.org
SUMMARY:Serielagsträning Närspel & Range
DESCRIPTION:Träning för klubbens alla kategori serielag.  \n\n\n\nTräning på både Närspel och Range under dessa tider. Varierande tillgänglighet för egenträning under dessa tider.
URL:https://www.goteborgsgk.org/kalender/serielagstraning-narspel-range/2025-04-21/
CATEGORIES:Träningsområden
END:VEVENT
BEGIN:VEVENT
DTSTART;TZID=Europe/Stockholm:20250421T153000
DTEND;TZID=Europe/Stockholm:20250421T193000
DTSTAMP:20260420T051408
CREATED:20250408T105535Z
LAST-MODIFIED:20250408T105536Z
UID:10001631-1745249400-1745263800@www.goteborgsgk.org
SUMMARY:Juniorträning Närspel
DESCRIPTION:Juniorträning på närspelet mellan 15:30-19:30 \n\n\n\nEn övningsgreen kommer att alltid vara tillgänglig för egenträning.
URL:https://www.goteborgsgk.org/kalender/juniortraning-narspel-12/2025-04-21/
CATEGORIES:Träningsområden
END:VEVENT
BEGIN:VEVENT
DTSTART;TZID=Europe/Stockholm:20250421T153000
DTEND;TZID=Europe/Stockholm:20250421T183000
DTSTAMP:20260420T051408
CREATED:20250408T103815Z
LAST-MODIFIED:20250408T103816Z
UID:10001602-1745249400-1745260200@www.goteborgsgk.org
SUMMARY:Juniorträning Range
DESCRIPTION:Juniorträning 15:30-18:30 på rangen. Begränsad tillgänglighet under dessa tider.  \n\n\n\nPrata med ansvarig tränare för att se möjligheten till egenträning.
URL:https://www.goteborgsgk.org/kalender/juniortraning-range-14/2025-04-21/
CATEGORIES:Träningsområden
END:VEVENT
BEGIN:VEVENT
DTSTART;TZID=Europe/Stockholm:20241014T160000
DTEND;TZID=Europe/Stockholm:20241014T190000
DTSTAMP:20260420T051408
CREATED:20241009T101017Z
LAST-MODIFIED:20241009T101018Z
UID:10001597-1728921600-1728932400@www.goteborgsgk.org
SUMMARY:Rangen avstängd pga underhåll
DESCRIPTION:Rangen är stängd då klubbens juniorer samlar in bollen från kanterna.
URL:https://www.goteborgsgk.org/kalender/rangen-avstangd-pga-underhall-2/
CATEGORIES:Träningsområden
END:VEVENT
BEGIN:VEVENT
DTSTART;TZID=Europe/Stockholm:20240912T153000
DTEND;TZID=Europe/Stockholm:20240912T193000
DTSTAMP:20260420T051408
CREATED:20240627T073103Z
LAST-MODIFIED:20240627T074015Z
UID:10001570-1726155000-1726169400@www.goteborgsgk.org
SUMMARY:Junior-/medlemsträning Närspel
DESCRIPTION:Flera träningsaktiviteter samtidigt på närspelet. En green tillgänglig för egenträning under dessa tider.
URL:https://www.goteborgsgk.org/kalender/junior-medlemstraning-narspel/2024-09-12/
CATEGORIES:Träningsområden
END:VEVENT
BEGIN:VEVENT
DTSTART;TZID=Europe/Stockholm:20240912T153000
DTEND;TZID=Europe/Stockholm:20240912T193000
DTSTAMP:20260420T051408
CREATED:20240627T072810Z
LAST-MODIFIED:20240627T074133Z
UID:10001580-1726155000-1726169400@www.goteborgsgk.org
SUMMARY:Junior-/medlemsträning Range
DESCRIPTION:Flera träningsgrupper på rangen samtidigt. Mycket begränsad tillgänglighet mellan 15:30-19:30.
URL:https://www.goteborgsgk.org/kalender/junior-medlemstraning-range/2024-09-12/
CATEGORIES:Träningsområden
END:VEVENT
BEGIN:VEVENT
DTSTART;TZID=Europe/Stockholm:20240911T153000
DTEND;TZID=Europe/Stockholm:20240911T193000
DTSTAMP:20260420T051408
CREATED:20240627T073103Z
LAST-MODIFIED:20240627T074015Z
UID:10001569-1726068600-1726083000@www.goteborgsgk.org
SUMMARY:Junior-/medlemsträning Närspel
DESCRIPTION:Flera träningsaktiviteter samtidigt på närspelet. En green tillgänglig för egenträning under dessa tider.
URL:https://www.goteborgsgk.org/kalender/junior-medlemstraning-narspel/2024-09-11/
CATEGORIES:Träningsområden
END:VEVENT
BEGIN:VEVENT
DTSTART;TZID=Europe/Stockholm:20240911T153000
DTEND;TZID=Europe/Stockholm:20240911T193000
DTSTAMP:20260420T051408
CREATED:20240627T072810Z
LAST-MODIFIED:20240627T074133Z
UID:10001579-1726068600-1726083000@www.goteborgsgk.org
SUMMARY:Junior-/medlemsträning Range
DESCRIPTION:Flera träningsgrupper på rangen samtidigt. Mycket begränsad tillgänglighet mellan 15:30-19:30.
URL:https://www.goteborgsgk.org/kalender/junior-medlemstraning-range/2024-09-11/
CATEGORIES:Träningsområden
END:VEVENT
BEGIN:VEVENT
DTSTART;TZID=Europe/Stockholm:20240910T100000
DTEND;TZID=Europe/Stockholm:20240910T113000
DTSTAMP:20260420T051408
CREATED:20240627T074404Z
LAST-MODIFIED:20240627T074406Z
UID:10001583-1725962400-1725967800@www.goteborgsgk.org
SUMMARY:Seniorträning Range
DESCRIPTION:Seniorträning på rangen mellan 10:00-11:30. Begränsad tillgänglighet.
URL:https://www.goteborgsgk.org/kalender/seniortraning-range/2024-09-10/
CATEGORIES:Träningsområden
END:VEVENT
BEGIN:VEVENT
DTSTART;TZID=Europe/Stockholm:20240909T153000
DTEND;TZID=Europe/Stockholm:20240909T193000
DTSTAMP:20260420T051408
CREATED:20240627T073103Z
LAST-MODIFIED:20240627T074015Z
UID:10001568-1725895800-1725910200@www.goteborgsgk.org
SUMMARY:Junior-/medlemsträning Närspel
DESCRIPTION:Flera träningsaktiviteter samtidigt på närspelet. En green tillgänglig för egenträning under dessa tider.
URL:https://www.goteborgsgk.org/kalender/junior-medlemstraning-narspel/2024-09-09/
CATEGORIES:Träningsområden
END:VEVENT
BEGIN:VEVENT
DTSTART;TZID=Europe/Stockholm:20240909T153000
DTEND;TZID=Europe/Stockholm:20240909T193000
DTSTAMP:20260420T051408
CREATED:20240627T072810Z
LAST-MODIFIED:20240627T074133Z
UID:10001578-1725895800-1725910200@www.goteborgsgk.org
SUMMARY:Junior-/medlemsträning Range
DESCRIPTION:Flera träningsgrupper på rangen samtidigt. Mycket begränsad tillgänglighet mellan 15:30-19:30.
URL:https://www.goteborgsgk.org/kalender/junior-medlemstraning-range/2024-09-09/
CATEGORIES:Träningsområden
END:VEVENT
BEGIN:VEVENT
DTSTART;TZID=Europe/Stockholm:20240906T093000
DTEND;TZID=Europe/Stockholm:20240906T130000
DTSTAMP:20260420T051408
CREATED:20240906T071344Z
LAST-MODIFIED:20240906T072109Z
UID:10001596-1725615000-1725627600@www.goteborgsgk.org
SUMMARY:Rangen avstängd pga underhåll
DESCRIPTION:Rangen håller stängd pga klippning och bollplockning
URL:https://www.goteborgsgk.org/kalender/rangen-avstangd-pga-underhall/
CATEGORIES:Kalender,Träningsområden
END:VEVENT
BEGIN:VEVENT
DTSTART;TZID=Europe/Stockholm:20240905T153000
DTEND;TZID=Europe/Stockholm:20240905T193000
DTSTAMP:20260420T051408
CREATED:20240627T073103Z
LAST-MODIFIED:20240627T074015Z
UID:10001567-1725550200-1725564600@www.goteborgsgk.org
SUMMARY:Junior-/medlemsträning Närspel
DESCRIPTION:Flera träningsaktiviteter samtidigt på närspelet. En green tillgänglig för egenträning under dessa tider.
URL:https://www.goteborgsgk.org/kalender/junior-medlemstraning-narspel/2024-09-05/
CATEGORIES:Träningsområden
END:VEVENT
BEGIN:VEVENT
DTSTART;TZID=Europe/Stockholm:20240905T153000
DTEND;TZID=Europe/Stockholm:20240905T193000
DTSTAMP:20260420T051408
CREATED:20240627T072810Z
LAST-MODIFIED:20240627T074133Z
UID:10001577-1725550200-1725564600@www.goteborgsgk.org
SUMMARY:Junior-/medlemsträning Range
DESCRIPTION:Flera träningsgrupper på rangen samtidigt. Mycket begränsad tillgänglighet mellan 15:30-19:30.
URL:https://www.goteborgsgk.org/kalender/junior-medlemstraning-range/2024-09-05/
CATEGORIES:Träningsområden
END:VEVENT
BEGIN:VEVENT
DTSTART;TZID=Europe/Stockholm:20240904T153000
DTEND;TZID=Europe/Stockholm:20240904T193000
DTSTAMP:20260420T051408
CREATED:20240627T073103Z
LAST-MODIFIED:20240627T074015Z
UID:10001566-1725463800-1725478200@www.goteborgsgk.org
SUMMARY:Junior-/medlemsträning Närspel
DESCRIPTION:Flera träningsaktiviteter samtidigt på närspelet. En green tillgänglig för egenträning under dessa tider.
URL:https://www.goteborgsgk.org/kalender/junior-medlemstraning-narspel/2024-09-04/
CATEGORIES:Träningsområden
END:VEVENT
BEGIN:VEVENT
DTSTART;TZID=Europe/Stockholm:20240904T153000
DTEND;TZID=Europe/Stockholm:20240904T193000
DTSTAMP:20260420T051408
CREATED:20240627T072810Z
LAST-MODIFIED:20240627T074133Z
UID:10001576-1725463800-1725478200@www.goteborgsgk.org
SUMMARY:Junior-/medlemsträning Range
DESCRIPTION:Flera träningsgrupper på rangen samtidigt. Mycket begränsad tillgänglighet mellan 15:30-19:30.
URL:https://www.goteborgsgk.org/kalender/junior-medlemstraning-range/2024-09-04/
CATEGORIES:Träningsområden
END:VEVENT
BEGIN:VEVENT
DTSTART;TZID=Europe/Stockholm:20240903T100000
DTEND;TZID=Europe/Stockholm:20240903T113000
DTSTAMP:20260420T051408
CREATED:20240627T074558Z
LAST-MODIFIED:20240627T074749Z
UID:10001587-1725357600-1725363000@www.goteborgsgk.org
SUMMARY:Seniorträning Närspel
DESCRIPTION:Seniorträning på närspelet. En övningsgreen är tillgänglig för träning mellan 10:00-11:30.
URL:https://www.goteborgsgk.org/kalender/seniortraning-narspel/2024-09-03/
CATEGORIES:Träningsområden
END:VEVENT
BEGIN:VEVENT
DTSTART;TZID=Europe/Stockholm:20240902T153000
DTEND;TZID=Europe/Stockholm:20240902T193000
DTSTAMP:20260420T051408
CREATED:20240627T073103Z
LAST-MODIFIED:20240627T074015Z
UID:10001565-1725291000-1725305400@www.goteborgsgk.org
SUMMARY:Junior-/medlemsträning Närspel
DESCRIPTION:Flera träningsaktiviteter samtidigt på närspelet. En green tillgänglig för egenträning under dessa tider.
URL:https://www.goteborgsgk.org/kalender/junior-medlemstraning-narspel/2024-09-02/
CATEGORIES:Träningsområden
END:VEVENT
BEGIN:VEVENT
DTSTART;TZID=Europe/Stockholm:20240902T153000
DTEND;TZID=Europe/Stockholm:20240902T193000
DTSTAMP:20260420T051408
CREATED:20240627T072810Z
LAST-MODIFIED:20240627T074133Z
UID:10001575-1725291000-1725305400@www.goteborgsgk.org
SUMMARY:Junior-/medlemsträning Range
DESCRIPTION:Flera träningsgrupper på rangen samtidigt. Mycket begränsad tillgänglighet mellan 15:30-19:30.
URL:https://www.goteborgsgk.org/kalender/junior-medlemstraning-range/2024-09-02/
CATEGORIES:Träningsområden
END:VEVENT
BEGIN:VEVENT
DTSTART;TZID=Europe/Stockholm:20240829T153000
DTEND;TZID=Europe/Stockholm:20240829T193000
DTSTAMP:20260420T051408
CREATED:20240627T073103Z
LAST-MODIFIED:20240627T074015Z
UID:10001564-1724945400-1724959800@www.goteborgsgk.org
SUMMARY:Junior-/medlemsträning Närspel
DESCRIPTION:Flera träningsaktiviteter samtidigt på närspelet. En green tillgänglig för egenträning under dessa tider.
URL:https://www.goteborgsgk.org/kalender/junior-medlemstraning-narspel/2024-08-29/
CATEGORIES:Träningsområden
END:VEVENT
BEGIN:VEVENT
DTSTART;TZID=Europe/Stockholm:20240829T153000
DTEND;TZID=Europe/Stockholm:20240829T193000
DTSTAMP:20260420T051408
CREATED:20240627T072810Z
LAST-MODIFIED:20240627T074133Z
UID:10001574-1724945400-1724959800@www.goteborgsgk.org
SUMMARY:Junior-/medlemsträning Range
DESCRIPTION:Flera träningsgrupper på rangen samtidigt. Mycket begränsad tillgänglighet mellan 15:30-19:30.
URL:https://www.goteborgsgk.org/kalender/junior-medlemstraning-range/2024-08-29/
CATEGORIES:Träningsområden
END:VEVENT
BEGIN:VEVENT
DTSTART;TZID=Europe/Stockholm:20240828T153000
DTEND;TZID=Europe/Stockholm:20240828T193000
DTSTAMP:20260420T051408
CREATED:20240627T073103Z
LAST-MODIFIED:20240627T074015Z
UID:10001563-1724859000-1724873400@www.goteborgsgk.org
SUMMARY:Junior-/medlemsträning Närspel
DESCRIPTION:Flera träningsaktiviteter samtidigt på närspelet. En green tillgänglig för egenträning under dessa tider.
URL:https://www.goteborgsgk.org/kalender/junior-medlemstraning-narspel/2024-08-28/
CATEGORIES:Träningsområden
END:VEVENT
BEGIN:VEVENT
DTSTART;TZID=Europe/Stockholm:20240828T153000
DTEND;TZID=Europe/Stockholm:20240828T193000
DTSTAMP:20260420T051408
CREATED:20240627T072810Z
LAST-MODIFIED:20240627T074133Z
UID:10001573-1724859000-1724873400@www.goteborgsgk.org
SUMMARY:Junior-/medlemsträning Range
DESCRIPTION:Flera träningsgrupper på rangen samtidigt. Mycket begränsad tillgänglighet mellan 15:30-19:30.
URL:https://www.goteborgsgk.org/kalender/junior-medlemstraning-range/2024-08-28/
CATEGORIES:Träningsområden
END:VEVENT
BEGIN:VEVENT
DTSTART;TZID=Europe/Stockholm:20240827T100000
DTEND;TZID=Europe/Stockholm:20240827T113000
DTSTAMP:20260420T051408
CREATED:20240627T074404Z
LAST-MODIFIED:20240627T074406Z
UID:10001582-1724752800-1724758200@www.goteborgsgk.org
SUMMARY:Seniorträning Range
DESCRIPTION:Seniorträning på rangen mellan 10:00-11:30. Begränsad tillgänglighet.
URL:https://www.goteborgsgk.org/kalender/seniortraning-range/2024-08-27/
CATEGORIES:Träningsområden
END:VEVENT
BEGIN:VEVENT
DTSTART;TZID=Europe/Stockholm:20240826T153000
DTEND;TZID=Europe/Stockholm:20240826T193000
DTSTAMP:20260420T051408
CREATED:20240627T073103Z
LAST-MODIFIED:20240627T074015Z
UID:10001562-1724686200-1724700600@www.goteborgsgk.org
SUMMARY:Junior-/medlemsträning Närspel
DESCRIPTION:Flera träningsaktiviteter samtidigt på närspelet. En green tillgänglig för egenträning under dessa tider.
URL:https://www.goteborgsgk.org/kalender/junior-medlemstraning-narspel/2024-08-26/
CATEGORIES:Träningsområden
END:VEVENT
BEGIN:VEVENT
DTSTART;TZID=Europe/Stockholm:20240826T153000
DTEND;TZID=Europe/Stockholm:20240826T193000
DTSTAMP:20260420T051408
CREATED:20240627T072810Z
LAST-MODIFIED:20240627T074133Z
UID:10001572-1724686200-1724700600@www.goteborgsgk.org
SUMMARY:Junior-/medlemsträning Range
DESCRIPTION:Flera träningsgrupper på rangen samtidigt. Mycket begränsad tillgänglighet mellan 15:30-19:30.
URL:https://www.goteborgsgk.org/kalender/junior-medlemstraning-range/2024-08-26/
CATEGORIES:Träningsområden
END:VEVENT
BEGIN:VEVENT
DTSTART;TZID=Europe/Stockholm:20240822T153000
DTEND;TZID=Europe/Stockholm:20240822T193000
DTSTAMP:20260420T051408
CREATED:20240627T073103Z
LAST-MODIFIED:20240627T074015Z
UID:10001561-1724340600-1724355000@www.goteborgsgk.org
SUMMARY:Junior-/medlemsträning Närspel
DESCRIPTION:Flera träningsaktiviteter samtidigt på närspelet. En green tillgänglig för egenträning under dessa tider.
URL:https://www.goteborgsgk.org/kalender/junior-medlemstraning-narspel/2024-08-22/
CATEGORIES:Träningsområden
END:VEVENT
BEGIN:VEVENT
DTSTART;TZID=Europe/Stockholm:20240822T153000
DTEND;TZID=Europe/Stockholm:20240822T193000
DTSTAMP:20260420T051408
CREATED:20240627T072810Z
LAST-MODIFIED:20240627T074133Z
UID:10001571-1724340600-1724355000@www.goteborgsgk.org
SUMMARY:Junior-/medlemsträning Range
DESCRIPTION:Flera träningsgrupper på rangen samtidigt. Mycket begränsad tillgänglighet mellan 15:30-19:30.
URL:https://www.goteborgsgk.org/kalender/junior-medlemstraning-range/2024-08-22/
CATEGORIES:Träningsområden
END:VEVENT
BEGIN:VEVENT
DTSTART;TZID=Europe/Stockholm:20240821T153000
DTEND;TZID=Europe/Stockholm:20240821T193000
DTSTAMP:20260420T051408
CREATED:20240627T073103Z
LAST-MODIFIED:20240627T074015Z
UID:10001560-1724254200-1724268600@www.goteborgsgk.org
SUMMARY:Junior-/medlemsträning Närspel
DESCRIPTION:Flera träningsaktiviteter samtidigt på närspelet. En green tillgänglig för egenträning under dessa tider.
URL:https://www.goteborgsgk.org/kalender/junior-medlemstraning-narspel/2024-08-21/
CATEGORIES:Träningsområden
END:VEVENT
BEGIN:VEVENT
DTSTART;TZID=Europe/Stockholm:20240821T153000
DTEND;TZID=Europe/Stockholm:20240821T193000
DTSTAMP:20260420T051408
CREATED:20240627T072810Z
LAST-MODIFIED:20240627T074133Z
UID:10001555-1724254200-1724268600@www.goteborgsgk.org
SUMMARY:Junior-/medlemsträning Range
DESCRIPTION:Flera träningsgrupper på rangen samtidigt. Mycket begränsad tillgänglighet mellan 15:30-19:30.
URL:https://www.goteborgsgk.org/kalender/junior-medlemstraning-range/2024-08-21/
CATEGORIES:Träningsområden
END:VEVENT
END:VCALENDAR