BEGIN:VCALENDAR
VERSION:2.0
PRODID:-//Göteborgs Golf Klubb - ECPv6.15.15//NONSGML v1.0//EN
CALSCALE:GREGORIAN
METHOD:PUBLISH
X-WR-CALNAME:Göteborgs Golf Klubb
X-ORIGINAL-URL:https://www.goteborgsgk.org
X-WR-CALDESC:Händelser för Göteborgs Golf Klubb
REFRESH-INTERVAL;VALUE=DURATION:PT1H
X-Robots-Tag:noindex
X-PUBLISHED-TTL:PT1H
BEGIN:VTIMEZONE
TZID:Europe/Stockholm
BEGIN:DAYLIGHT
TZOFFSETFROM:+0100
TZOFFSETTO:+0200
TZNAME:CEST
DTSTART:20230326T010000
END:DAYLIGHT
BEGIN:STANDARD
TZOFFSETFROM:+0200
TZOFFSETTO:+0100
TZNAME:CET
DTSTART:20231029T010000
END:STANDARD
BEGIN:DAYLIGHT
TZOFFSETFROM:+0100
TZOFFSETTO:+0200
TZNAME:CEST
DTSTART:20240331T010000
END:DAYLIGHT
BEGIN:STANDARD
TZOFFSETFROM:+0200
TZOFFSETTO:+0100
TZNAME:CET
DTSTART:20241027T010000
END:STANDARD
BEGIN:DAYLIGHT
TZOFFSETFROM:+0100
TZOFFSETTO:+0200
TZNAME:CEST
DTSTART:20250330T010000
END:DAYLIGHT
BEGIN:STANDARD
TZOFFSETFROM:+0200
TZOFFSETTO:+0100
TZNAME:CET
DTSTART:20251026T010000
END:STANDARD
END:VTIMEZONE
BEGIN:VEVENT
DTSTART;TZID=Europe/Stockholm:20240529T153000
DTEND;TZID=Europe/Stockholm:20240529T193000
DTSTAMP:20260420T065304
CREATED:20240410T072542Z
LAST-MODIFIED:20240410T072544Z
UID:10000297-1716996600-1717011000@www.goteborgsgk.org
SUMMARY:Juniorträning Range
DESCRIPTION:Breddträning på rangen mellan 15:30-19:30. Begränsad tillgänglighet för träning under dessa tider. Följ anvisningen på rangen.
URL:https://www.goteborgsgk.org/kalender/juniortraning-range/2024-05-29/
CATEGORIES:Träningsområden
END:VEVENT
BEGIN:VEVENT
DTSTART;TZID=Europe/Stockholm:20240529T090000
DTEND;TZID=Europe/Stockholm:20240529T120000
DTSTAMP:20260420T065304
CREATED:20240415T083701Z
LAST-MODIFIED:20240415T083703Z
UID:10001531-1716973200-1716984000@www.goteborgsgk.org
SUMMARY:Damläger
DESCRIPTION:Damläger på rangen och närspelet. 8 platser reserverade på rangen och begränsad tillgång på närspelet under dessa tider.
URL:https://www.goteborgsgk.org/kalender/damlager-2/2024-05-29/
CATEGORIES:Träningsområden
END:VEVENT
BEGIN:VEVENT
DTSTART;TZID=Europe/Stockholm:20240528T100000
DTEND;TZID=Europe/Stockholm:20240528T113000
DTSTAMP:20260420T065304
CREATED:20240411T193835Z
LAST-MODIFIED:20240411T193837Z
UID:10000609-1716890400-1716895800@www.goteborgsgk.org
SUMMARY:Seniorträning 55+ Närspel
DESCRIPTION:Seniorträning 55+ på närspelet mellan 10:00-11:30. Begränsat tillgänglighet på närspelet under dessa tider.
URL:https://www.goteborgsgk.org/kalender/seniortraning-55-narspel/2024-05-28/
CATEGORIES:Träningsområden
END:VEVENT
BEGIN:VEVENT
DTSTART;TZID=Europe/Stockholm:20240527T190000
DTEND;TZID=Europe/Stockholm:20240527T190000
DTSTAMP:20260420T065304
CREATED:20240527T162840Z
LAST-MODIFIED:20240527T162925Z
UID:10001545-1716836400-1716836400@www.goteborgsgk.org
SUMMARY:Drivingrangen stängd pga. klippning resten av kvällen
DESCRIPTION:
URL:https://www.goteborgsgk.org/kalender/drivingrangen-stangd-pga-klippning/
CATEGORIES:Träningsområden
END:VEVENT
BEGIN:VEVENT
DTSTART;TZID=Europe/Stockholm:20240527T153000
DTEND;TZID=Europe/Stockholm:20240527T200000
DTSTAMP:20260420T065304
CREATED:20240410T073307Z
LAST-MODIFIED:20240415T121333Z
UID:10000306-1716823800-1716840000@www.goteborgsgk.org
SUMMARY:Juniorträning Närspel + Medlemsträning
DESCRIPTION:Träning för Team GGK\, Team Future\, Tävlingsgruppen och medlemsträning på närspelet mellan 15:30-20:00. Begränsad tillgänglighet under denna tiden.
URL:https://www.goteborgsgk.org/kalender/juniortraning-narspel-3/2024-05-27/
CATEGORIES:Träningsområden
END:VEVENT
BEGIN:VEVENT
DTSTART;TZID=Europe/Stockholm:20240527T153000
DTEND;TZID=Europe/Stockholm:20240527T193000
DTSTAMP:20260420T065304
CREATED:20240410T072542Z
LAST-MODIFIED:20240410T072544Z
UID:10000296-1716823800-1716838200@www.goteborgsgk.org
SUMMARY:Juniorträning Range
DESCRIPTION:Breddträning på rangen mellan 15:30-19:30. Begränsad tillgänglighet för träning under dessa tider. Följ anvisningen på rangen.
URL:https://www.goteborgsgk.org/kalender/juniortraning-range/2024-05-27/
CATEGORIES:Träningsområden
END:VEVENT
BEGIN:VEVENT
DTSTART;TZID=Europe/Stockholm:20240523T153000
DTEND;TZID=Europe/Stockholm:20240523T200000
DTSTAMP:20260420T065304
CREATED:20240410T094613Z
LAST-MODIFIED:20240415T121812Z
UID:10000594-1716478200-1716494400@www.goteborgsgk.org
SUMMARY:Juniorträning Range + Medlemsträning
DESCRIPTION:Träning för Team GGK\, Team Future\, Tävlingsgruppen och medlemsträning på rangen mellan 15:30-20:00. Mycket begränsad tillgänglighet under dessa tider.
URL:https://www.goteborgsgk.org/kalender/juniortraning-range-4/2024-05-23/
CATEGORIES:Träningsområden
END:VEVENT
BEGIN:VEVENT
DTSTART;TZID=Europe/Stockholm:20240523T153000
DTEND;TZID=Europe/Stockholm:20240523T183000
DTSTAMP:20260420T065304
CREATED:20240410T102002Z
LAST-MODIFIED:20240410T102005Z
UID:10000603-1716478200-1716489000@www.goteborgsgk.org
SUMMARY:Juniorträning Närspel
DESCRIPTION:Breddträning på närspel mellan 15:30-18:30. En övningsgreen kommer alltid vara tillgänglig för medlemmar under dessa tider.
URL:https://www.goteborgsgk.org/kalender/juniortraning-narspel-6/2024-05-23/
CATEGORIES:Träningsområden
END:VEVENT
BEGIN:VEVENT
DTSTART;TZID=Europe/Stockholm:20240522T160000
DTEND;TZID=Europe/Stockholm:20240522T170000
DTSTAMP:20260420T065304
CREATED:20240410T100739Z
LAST-MODIFIED:20240410T100953Z
UID:10000599-1716393600-1716397200@www.goteborgsgk.org
SUMMARY:Juniorträning Range
DESCRIPTION:Träning för Tävlingsgruppen på rangen mellan 16:00-17:00. Begränsad tillgänglighet för träning under dessa tider. Följ anvisningen på rangen.
URL:https://www.goteborgsgk.org/kalender/juniortraning-range-5/2024-05-22/
CATEGORIES:Träningsområden
END:VEVENT
BEGIN:VEVENT
DTSTART;TZID=Europe/Stockholm:20240522T153000
DTEND;TZID=Europe/Stockholm:20240522T193000
DTSTAMP:20260420T065304
CREATED:20240410T092619Z
LAST-MODIFIED:20240410T092742Z
UID:10000586-1716391800-1716406200@www.goteborgsgk.org
SUMMARY:Juniorträning Närspel
DESCRIPTION:Breddträning på närspelet mellan 15:30-19:30. En övningsgreen kommer alltid vara tillgänglig för medlemmar under dessa tider.
URL:https://www.goteborgsgk.org/kalender/juniortraning-narspel-5/2024-05-22/
CATEGORIES:Träningsområden
END:VEVENT
BEGIN:VEVENT
DTSTART;TZID=Europe/Stockholm:20240521T183000
DTEND;TZID=Europe/Stockholm:20240521T193000
DTSTAMP:20260420T065304
CREATED:20240520T125717Z
LAST-MODIFIED:20240520T125840Z
UID:10001544-1716316200-1716319800@www.goteborgsgk.org
SUMMARY:Gruppträning vuxna range
DESCRIPTION:Gruppträning för vuxna på rangen. Totalt 7 mattor reserverade under den här tiden.
URL:https://www.goteborgsgk.org/kalender/grupptraning-vuxna-range/
CATEGORIES:Träningsområden
END:VEVENT
BEGIN:VEVENT
DTSTART;TZID=Europe/Stockholm:20240521T100000
DTEND;TZID=Europe/Stockholm:20240521T113000
DTSTAMP:20260420T065304
CREATED:20240411T194300Z
LAST-MODIFIED:20240411T194302Z
UID:10000612-1716285600-1716291000@www.goteborgsgk.org
SUMMARY:Seniorträning 55+ Range
DESCRIPTION:Seniorträning 55+ på rangen mellan 10:00-11:30. Rangen är avstängd under dessa tider.
URL:https://www.goteborgsgk.org/kalender/seniortraning-55-range/2024-05-21/
CATEGORIES:Träningsområden
END:VEVENT
BEGIN:VEVENT
DTSTART;TZID=Europe/Stockholm:20240520T173000
DTEND;TZID=Europe/Stockholm:20240520T200000
DTSTAMP:20260420T065304
CREATED:20240520T095215Z
LAST-MODIFIED:20240520T095217Z
UID:10001543-1716226200-1716235200@www.goteborgsgk.org
SUMMARY:Range - Junior & Medlemsträning
DESCRIPTION:Det pågår flera träningsgrupper på rangen mellan 17:30-20:00. Inga övriga platser finns för egenträning.
URL:https://www.goteborgsgk.org/kalender/range-junior-medlemstraning/
CATEGORIES:Träningsområden
END:VEVENT
BEGIN:VEVENT
DTSTART;TZID=Europe/Stockholm:20240520T153000
DTEND;TZID=Europe/Stockholm:20240520T200000
DTSTAMP:20260420T065304
CREATED:20240410T094613Z
LAST-MODIFIED:20240415T121812Z
UID:10000593-1716219000-1716235200@www.goteborgsgk.org
SUMMARY:Juniorträning Range + Medlemsträning
DESCRIPTION:Träning för Team GGK\, Team Future\, Tävlingsgruppen och medlemsträning på rangen mellan 15:30-20:00. Mycket begränsad tillgänglighet under dessa tider.
URL:https://www.goteborgsgk.org/kalender/juniortraning-range-4/2024-05-20/
CATEGORIES:Träningsområden
END:VEVENT
BEGIN:VEVENT
DTSTART;TZID=Europe/Stockholm:20240520T153000
DTEND;TZID=Europe/Stockholm:20240520T193000
DTSTAMP:20260420T065304
CREATED:20240410T092619Z
LAST-MODIFIED:20240410T092742Z
UID:10000585-1716219000-1716233400@www.goteborgsgk.org
SUMMARY:Juniorträning Närspel
DESCRIPTION:Breddträning på närspelet mellan 15:30-19:30. En övningsgreen kommer alltid vara tillgänglig för medlemmar under dessa tider.
URL:https://www.goteborgsgk.org/kalender/juniortraning-narspel-5/2024-05-20/
CATEGORIES:Träningsområden
END:VEVENT
BEGIN:VEVENT
DTSTART;TZID=Europe/Stockholm:20240516T153000
DTEND;TZID=Europe/Stockholm:20240516T200000
DTSTAMP:20260420T065304
CREATED:20240410T073307Z
LAST-MODIFIED:20240415T121333Z
UID:10000305-1715873400-1715889600@www.goteborgsgk.org
SUMMARY:Juniorträning Närspel + Medlemsträning
DESCRIPTION:Träning för Team GGK\, Team Future\, Tävlingsgruppen och medlemsträning på närspelet mellan 15:30-20:00. Begränsad tillgänglighet under denna tiden.
URL:https://www.goteborgsgk.org/kalender/juniortraning-narspel-3/2024-05-16/
CATEGORIES:Träningsområden
END:VEVENT
BEGIN:VEVENT
DTSTART;TZID=Europe/Stockholm:20240516T153000
DTEND;TZID=Europe/Stockholm:20240516T183000
DTSTAMP:20260420T065304
CREATED:20240410T091537Z
LAST-MODIFIED:20240410T091641Z
UID:10000312-1715873400-1715884200@www.goteborgsgk.org
SUMMARY:Juniorträning Range
DESCRIPTION:Breddträning på rangen mellan 15:30-18:30. Begränsad tillgänglighet för träning under dessa tider. Följ anvisningen på rangen.
URL:https://www.goteborgsgk.org/kalender/juniortraning-range-2/2024-05-16/
CATEGORIES:Träningsområden
END:VEVENT
BEGIN:VEVENT
DTSTART;TZID=Europe/Stockholm:20240515T160000
DTEND;TZID=Europe/Stockholm:20240515T170000
DTSTAMP:20260420T065304
CREATED:20240410T092107Z
LAST-MODIFIED:20240410T092109Z
UID:10000317-1715788800-1715792400@www.goteborgsgk.org
SUMMARY:Juniorträning Närspel
DESCRIPTION:Träning för Tävlingsgruppen på närspelet mellan 16:00-17:00. En övningsgreen kommer alltid vara tillgänglig för medlemmar under dessa tider.
URL:https://www.goteborgsgk.org/kalender/juniortraning-narspel-4/2024-05-15/
CATEGORIES:Träningsområden
END:VEVENT
BEGIN:VEVENT
DTSTART;TZID=Europe/Stockholm:20240515T153000
DTEND;TZID=Europe/Stockholm:20240515T193000
DTSTAMP:20260420T065304
CREATED:20240410T072542Z
LAST-MODIFIED:20240410T072544Z
UID:10000295-1715787000-1715801400@www.goteborgsgk.org
SUMMARY:Juniorträning Range
DESCRIPTION:Breddträning på rangen mellan 15:30-19:30. Begränsad tillgänglighet för träning under dessa tider. Följ anvisningen på rangen.
URL:https://www.goteborgsgk.org/kalender/juniortraning-range/2024-05-15/
CATEGORIES:Träningsområden
END:VEVENT
BEGIN:VEVENT
DTSTART;TZID=Europe/Stockholm:20240514T183000
DTEND;TZID=Europe/Stockholm:20240514T193000
DTSTAMP:20260420T065304
CREATED:20240416T121845Z
LAST-MODIFIED:20240416T121918Z
UID:10001537-1715711400-1715715000@www.goteborgsgk.org
SUMMARY:Gruppträning vuxna närspel
DESCRIPTION:Gruppträning 7 pers vuxna på närspelet. En övningsgreen är tillgänglig för medlem som vill träna.
URL:https://www.goteborgsgk.org/kalender/grupptraning-vuxna-narspel-2/
CATEGORIES:Träningsområden
END:VEVENT
BEGIN:VEVENT
DTSTART;TZID=Europe/Stockholm:20240514T100000
DTEND;TZID=Europe/Stockholm:20240514T113000
DTSTAMP:20260420T065304
CREATED:20240411T193835Z
LAST-MODIFIED:20240411T193837Z
UID:10000608-1715680800-1715686200@www.goteborgsgk.org
SUMMARY:Seniorträning 55+ Närspel
DESCRIPTION:Seniorträning 55+ på närspelet mellan 10:00-11:30. Begränsat tillgänglighet på närspelet under dessa tider.
URL:https://www.goteborgsgk.org/kalender/seniortraning-55-narspel/2024-05-14/
CATEGORIES:Träningsområden
END:VEVENT
BEGIN:VEVENT
DTSTART;TZID=Europe/Stockholm:20240513T153000
DTEND;TZID=Europe/Stockholm:20240513T200000
DTSTAMP:20260420T065304
CREATED:20240410T073307Z
LAST-MODIFIED:20240415T121333Z
UID:10000304-1715614200-1715630400@www.goteborgsgk.org
SUMMARY:Juniorträning Närspel + Medlemsträning
DESCRIPTION:Träning för Team GGK\, Team Future\, Tävlingsgruppen och medlemsträning på närspelet mellan 15:30-20:00. Begränsad tillgänglighet under denna tiden.
URL:https://www.goteborgsgk.org/kalender/juniortraning-narspel-3/2024-05-13/
CATEGORIES:Träningsområden
END:VEVENT
BEGIN:VEVENT
DTSTART;TZID=Europe/Stockholm:20240513T153000
DTEND;TZID=Europe/Stockholm:20240513T193000
DTSTAMP:20260420T065304
CREATED:20240410T072542Z
LAST-MODIFIED:20240410T072544Z
UID:10000294-1715614200-1715628600@www.goteborgsgk.org
SUMMARY:Juniorträning Range
DESCRIPTION:Breddträning på rangen mellan 15:30-19:30. Begränsad tillgänglighet för träning under dessa tider. Följ anvisningen på rangen.
URL:https://www.goteborgsgk.org/kalender/juniortraning-range/2024-05-13/
CATEGORIES:Träningsområden
END:VEVENT
BEGIN:VEVENT
DTSTART;TZID=Europe/Stockholm:20240513T080000
DTEND;TZID=Europe/Stockholm:20240513T100000
DTSTAMP:20260420T065304
CREATED:20240513T105334Z
LAST-MODIFIED:20240513T105812Z
UID:10001542-1715587200-1715594400@www.goteborgsgk.org
SUMMARY:Partnerträff Närspel
DESCRIPTION:Partnerträff på närspelet. Hela området är reserverat under 08:00-10:00.
URL:https://www.goteborgsgk.org/kalender/partnertraff-narspel/
CATEGORIES:Träningsområden
END:VEVENT
BEGIN:VEVENT
DTSTART;TZID=Europe/Stockholm:20240510T140000
DTEND;TZID=Europe/Stockholm:20240510T160000
DTSTAMP:20260420T065304
CREATED:20240509T105454Z
LAST-MODIFIED:20240509T105506Z
UID:10001541-1715349600-1715356800@www.goteborgsgk.org
SUMMARY:Juniorträning range
DESCRIPTION:Juniorträning på rangen. Begränsad plats för medlem som vill träna.
URL:https://www.goteborgsgk.org/kalender/juniortraning-range-7/
CATEGORIES:Träningsområden
END:VEVENT
BEGIN:VEVENT
DTSTART;TZID=Europe/Stockholm:20240509T153000
DTEND;TZID=Europe/Stockholm:20240509T200000
DTSTAMP:20260420T065304
CREATED:20240410T094613Z
LAST-MODIFIED:20240415T121812Z
UID:10000592-1715268600-1715284800@www.goteborgsgk.org
SUMMARY:Juniorträning Range + Medlemsträning
DESCRIPTION:Träning för Team GGK\, Team Future\, Tävlingsgruppen och medlemsträning på rangen mellan 15:30-20:00. Mycket begränsad tillgänglighet under dessa tider.
URL:https://www.goteborgsgk.org/kalender/juniortraning-range-4/2024-05-09/
CATEGORIES:Träningsområden
END:VEVENT
BEGIN:VEVENT
DTSTART;TZID=Europe/Stockholm:20240509T153000
DTEND;TZID=Europe/Stockholm:20240509T183000
DTSTAMP:20260420T065304
CREATED:20240410T102002Z
LAST-MODIFIED:20240410T102005Z
UID:10000602-1715268600-1715279400@www.goteborgsgk.org
SUMMARY:Juniorträning Närspel
DESCRIPTION:Breddträning på närspel mellan 15:30-18:30. En övningsgreen kommer alltid vara tillgänglig för medlemmar under dessa tider.
URL:https://www.goteborgsgk.org/kalender/juniortraning-narspel-6/2024-05-09/
CATEGORIES:Träningsområden
END:VEVENT
BEGIN:VEVENT
DTSTART;TZID=Europe/Stockholm:20240509T090000
DTEND;TZID=Europe/Stockholm:20240509T120000
DTSTAMP:20260420T065304
CREATED:20240415T083303Z
LAST-MODIFIED:20240415T083347Z
UID:10001530-1715245200-1715256000@www.goteborgsgk.org
SUMMARY:Herrläger
DESCRIPTION:Herrläger på rangen och närspelet. 8 platser reserverade på rangen och begränsad tillgång på närspelet under dessa tider.
URL:https://www.goteborgsgk.org/kalender/herrlager/2024-05-09/
CATEGORIES:Träningsområden
END:VEVENT
BEGIN:VEVENT
DTSTART;TZID=Europe/Stockholm:20240508T160000
DTEND;TZID=Europe/Stockholm:20240508T170000
DTSTAMP:20260420T065304
CREATED:20240410T100739Z
LAST-MODIFIED:20240410T100953Z
UID:10000598-1715184000-1715187600@www.goteborgsgk.org
SUMMARY:Juniorträning Range
DESCRIPTION:Träning för Tävlingsgruppen på rangen mellan 16:00-17:00. Begränsad tillgänglighet för träning under dessa tider. Följ anvisningen på rangen.
URL:https://www.goteborgsgk.org/kalender/juniortraning-range-5/2024-05-08/
CATEGORIES:Träningsområden
END:VEVENT
BEGIN:VEVENT
DTSTART;TZID=Europe/Stockholm:20240508T153000
DTEND;TZID=Europe/Stockholm:20240508T193000
DTSTAMP:20260420T065304
CREATED:20240410T092619Z
LAST-MODIFIED:20240410T092742Z
UID:10000584-1715182200-1715196600@www.goteborgsgk.org
SUMMARY:Juniorträning Närspel
DESCRIPTION:Breddträning på närspelet mellan 15:30-19:30. En övningsgreen kommer alltid vara tillgänglig för medlemmar under dessa tider.
URL:https://www.goteborgsgk.org/kalender/juniortraning-narspel-5/2024-05-08/
CATEGORIES:Träningsområden
END:VEVENT
END:VCALENDAR