BEGIN:VCALENDAR
VERSION:2.0
PRODID:-//Göteborgs Golf Klubb - ECPv6.15.15//NONSGML v1.0//EN
CALSCALE:GREGORIAN
METHOD:PUBLISH
X-WR-CALNAME:Göteborgs Golf Klubb
X-ORIGINAL-URL:https://www.goteborgsgk.org
X-WR-CALDESC:Händelser för Göteborgs Golf Klubb
REFRESH-INTERVAL;VALUE=DURATION:PT1H
X-Robots-Tag:noindex
X-PUBLISHED-TTL:PT1H
BEGIN:VTIMEZONE
TZID:Europe/Stockholm
BEGIN:DAYLIGHT
TZOFFSETFROM:+0100
TZOFFSETTO:+0200
TZNAME:CEST
DTSTART:20230326T010000
END:DAYLIGHT
BEGIN:STANDARD
TZOFFSETFROM:+0200
TZOFFSETTO:+0100
TZNAME:CET
DTSTART:20231029T010000
END:STANDARD
BEGIN:DAYLIGHT
TZOFFSETFROM:+0100
TZOFFSETTO:+0200
TZNAME:CEST
DTSTART:20240331T010000
END:DAYLIGHT
BEGIN:STANDARD
TZOFFSETFROM:+0200
TZOFFSETTO:+0100
TZNAME:CET
DTSTART:20241027T010000
END:STANDARD
BEGIN:DAYLIGHT
TZOFFSETFROM:+0100
TZOFFSETTO:+0200
TZNAME:CEST
DTSTART:20250330T010000
END:DAYLIGHT
BEGIN:STANDARD
TZOFFSETFROM:+0200
TZOFFSETTO:+0100
TZNAME:CET
DTSTART:20251026T010000
END:STANDARD
END:VTIMEZONE
BEGIN:VEVENT
DTSTART;TZID=Europe/Stockholm:20240704T000000
DTEND;TZID=Europe/Stockholm:20240713T235959
DTSTAMP:20260420T034803
CREATED:20240627T071029Z
LAST-MODIFIED:20240627T071056Z
UID:10001549-1720051200-1720915199@www.goteborgsgk.org
SUMMARY:European Girl's Teams Championship
DESCRIPTION:Range och närspelområdet är avstängt under European Girl’s Championship.
URL:https://www.goteborgsgk.org/kalender/european-girls-teams-championship/
CATEGORIES:Träningsområden
END:VEVENT
BEGIN:VEVENT
DTSTART;TZID=Europe/Stockholm:20240703T090000
DTEND;TZID=Europe/Stockholm:20240703T120000
DTSTAMP:20260420T034803
CREATED:20240627T071332Z
LAST-MODIFIED:20240627T071621Z
UID:10001550-1719997200-1720008000@www.goteborgsgk.org
SUMMARY:Temakurs - Närspel
DESCRIPTION:Temakurs – Bättre närspel med Robin och Marcus. 8 deltagare. Puttinggreen och nya chippinggreenen är reserverade för temakursen mellan 09:00-12:00. \n\n\n\nGamla chippinggreeenen är öppen för träning.
URL:https://www.goteborgsgk.org/kalender/temakurs-narspel-2/
CATEGORIES:Träningsområden
END:VEVENT
BEGIN:VEVENT
DTSTART;TZID=Europe/Stockholm:20240701T130000
DTEND;TZID=Europe/Stockholm:20240701T141500
DTSTAMP:20260420T034803
CREATED:20240628T140009Z
LAST-MODIFIED:20240628T140011Z
UID:10001590-1719838800-1719843300@www.goteborgsgk.org
SUMMARY:Juniorträning range
DESCRIPTION:Juniorträning på rangen. 10 platser reserverade för träning.
URL:https://www.goteborgsgk.org/kalender/juniortraning-range-10/
CATEGORIES:Träningsområden
END:VEVENT
BEGIN:VEVENT
DTSTART;TZID=Europe/Stockholm:20240701T090000
DTEND;TZID=Europe/Stockholm:20240701T120000
DTSTAMP:20260420T034803
CREATED:20240628T135835Z
LAST-MODIFIED:20240628T140248Z
UID:10001589-1719824400-1719835200@www.goteborgsgk.org
SUMMARY:Juniorträning range
DESCRIPTION:Juniorträning på rangen. 10 platser reserverade för träning.
URL:https://www.goteborgsgk.org/kalender/juniortraning-range-9/
CATEGORIES:Träningsområden
END:VEVENT
BEGIN:VEVENT
DTSTART;TZID=Europe/Stockholm:20240623T090000
DTEND;TZID=Europe/Stockholm:20240628T150000
DTSTAMP:20260420T034803
CREATED:20240627T070521Z
LAST-MODIFIED:20240627T070522Z
UID:10001548-1719133200-1719586800@www.goteborgsgk.org
SUMMARY:Juniorläger Range/Närspel
DESCRIPTION:Juniorläger mellan 09:00-15:00. Begränsad tillgänglighet på våra träningsområden under dessa dagar.
URL:https://www.goteborgsgk.org/kalender/juniorlager-range-narspel/
CATEGORIES:Träningsområden
END:VEVENT
BEGIN:VEVENT
DTSTART;TZID=Europe/Stockholm:20240620T070000
DTEND;TZID=Europe/Stockholm:20240620T110000
DTSTAMP:20260420T034803
CREATED:20240531T044027Z
LAST-MODIFIED:20240619T142108Z
UID:10001546-1718866800-1718881200@www.goteborgsgk.org
SUMMARY:Drivingrangen stängd pga. underhåll
DESCRIPTION:
URL:https://www.goteborgsgk.org/kalender/drivingrangen-stangd-pga-underhall/
CATEGORIES:Träningsområden
END:VEVENT
BEGIN:VEVENT
DTSTART;TZID=Europe/Stockholm:20240613T153000
DTEND;TZID=Europe/Stockholm:20240613T200000
DTSTAMP:20260420T034803
CREATED:20240410T073307Z
LAST-MODIFIED:20240415T121333Z
UID:10000309-1718292600-1718308800@www.goteborgsgk.org
SUMMARY:Juniorträning Närspel + Medlemsträning
DESCRIPTION:Träning för Team GGK\, Team Future\, Tävlingsgruppen och medlemsträning på närspelet mellan 15:30-20:00. Begränsad tillgänglighet under denna tiden.
URL:https://www.goteborgsgk.org/kalender/juniortraning-narspel-3/2024-06-13/
CATEGORIES:Träningsområden
END:VEVENT
BEGIN:VEVENT
DTSTART;TZID=Europe/Stockholm:20240613T153000
DTEND;TZID=Europe/Stockholm:20240613T183000
DTSTAMP:20260420T034803
CREATED:20240410T091537Z
LAST-MODIFIED:20240410T091641Z
UID:10000314-1718292600-1718303400@www.goteborgsgk.org
SUMMARY:Juniorträning Range
DESCRIPTION:Breddträning på rangen mellan 15:30-18:30. Begränsad tillgänglighet för träning under dessa tider. Följ anvisningen på rangen.
URL:https://www.goteborgsgk.org/kalender/juniortraning-range-2/2024-06-13/
CATEGORIES:Träningsområden
END:VEVENT
BEGIN:VEVENT
DTSTART;TZID=Europe/Stockholm:20240612T160000
DTEND;TZID=Europe/Stockholm:20240612T170000
DTSTAMP:20260420T034803
CREATED:20240410T092107Z
LAST-MODIFIED:20240410T092109Z
UID:10000319-1718208000-1718211600@www.goteborgsgk.org
SUMMARY:Juniorträning Närspel
DESCRIPTION:Träning för Tävlingsgruppen på närspelet mellan 16:00-17:00. En övningsgreen kommer alltid vara tillgänglig för medlemmar under dessa tider.
URL:https://www.goteborgsgk.org/kalender/juniortraning-narspel-4/2024-06-12/
CATEGORIES:Träningsområden
END:VEVENT
BEGIN:VEVENT
DTSTART;TZID=Europe/Stockholm:20240612T153000
DTEND;TZID=Europe/Stockholm:20240612T193000
DTSTAMP:20260420T034803
CREATED:20240410T072542Z
LAST-MODIFIED:20240410T072544Z
UID:10000299-1718206200-1718220600@www.goteborgsgk.org
SUMMARY:Juniorträning Range
DESCRIPTION:Breddträning på rangen mellan 15:30-19:30. Begränsad tillgänglighet för träning under dessa tider. Följ anvisningen på rangen.
URL:https://www.goteborgsgk.org/kalender/juniortraning-range/2024-06-12/
CATEGORIES:Träningsområden
END:VEVENT
BEGIN:VEVENT
DTSTART;TZID=Europe/Stockholm:20240610T153000
DTEND;TZID=Europe/Stockholm:20240610T200000
DTSTAMP:20260420T034803
CREATED:20240410T073307Z
LAST-MODIFIED:20240415T121333Z
UID:10000308-1718033400-1718049600@www.goteborgsgk.org
SUMMARY:Juniorträning Närspel + Medlemsträning
DESCRIPTION:Träning för Team GGK\, Team Future\, Tävlingsgruppen och medlemsträning på närspelet mellan 15:30-20:00. Begränsad tillgänglighet under denna tiden.
URL:https://www.goteborgsgk.org/kalender/juniortraning-narspel-3/2024-06-10/
CATEGORIES:Träningsområden
END:VEVENT
BEGIN:VEVENT
DTSTART;TZID=Europe/Stockholm:20240610T153000
DTEND;TZID=Europe/Stockholm:20240610T193000
DTSTAMP:20260420T034803
CREATED:20240410T072542Z
LAST-MODIFIED:20240410T072544Z
UID:10000298-1718033400-1718047800@www.goteborgsgk.org
SUMMARY:Juniorträning Range
DESCRIPTION:Breddträning på rangen mellan 15:30-19:30. Begränsad tillgänglighet för träning under dessa tider. Följ anvisningen på rangen.
URL:https://www.goteborgsgk.org/kalender/juniortraning-range/2024-06-10/
CATEGORIES:Träningsområden
END:VEVENT
BEGIN:VEVENT
DTSTART;TZID=Europe/Stockholm:20240607T153000
DTEND;TZID=Europe/Stockholm:20240607T173000
DTSTAMP:20260420T034803
CREATED:20240607T112110Z
LAST-MODIFIED:20240607T112111Z
UID:10001547-1717774200-1717781400@www.goteborgsgk.org
SUMMARY:Juniorträning range
DESCRIPTION:Juniorträning på rangen. 10 mattor reserverade under den här tiden.
URL:https://www.goteborgsgk.org/kalender/juniortraning-range-8/
CATEGORIES:Träningsområden
END:VEVENT
BEGIN:VEVENT
DTSTART;TZID=Europe/Stockholm:20240606T153000
DTEND;TZID=Europe/Stockholm:20240606T200000
DTSTAMP:20260420T034803
CREATED:20240410T094613Z
LAST-MODIFIED:20240415T121812Z
UID:10000596-1717687800-1717704000@www.goteborgsgk.org
SUMMARY:Juniorträning Range + Medlemsträning
DESCRIPTION:Träning för Team GGK\, Team Future\, Tävlingsgruppen och medlemsträning på rangen mellan 15:30-20:00. Mycket begränsad tillgänglighet under dessa tider.
URL:https://www.goteborgsgk.org/kalender/juniortraning-range-4/2024-06-06/
CATEGORIES:Träningsområden
END:VEVENT
BEGIN:VEVENT
DTSTART;TZID=Europe/Stockholm:20240606T153000
DTEND;TZID=Europe/Stockholm:20240606T183000
DTSTAMP:20260420T034803
CREATED:20240410T102002Z
LAST-MODIFIED:20240410T102005Z
UID:10000604-1717687800-1717698600@www.goteborgsgk.org
SUMMARY:Juniorträning Närspel
DESCRIPTION:Breddträning på närspel mellan 15:30-18:30. En övningsgreen kommer alltid vara tillgänglig för medlemmar under dessa tider.
URL:https://www.goteborgsgk.org/kalender/juniortraning-narspel-6/2024-06-06/
CATEGORIES:Träningsområden
END:VEVENT
BEGIN:VEVENT
DTSTART;TZID=Europe/Stockholm:20240605T160000
DTEND;TZID=Europe/Stockholm:20240605T170000
DTSTAMP:20260420T034803
CREATED:20240410T100739Z
LAST-MODIFIED:20240410T100953Z
UID:10000600-1717603200-1717606800@www.goteborgsgk.org
SUMMARY:Juniorträning Range
DESCRIPTION:Träning för Tävlingsgruppen på rangen mellan 16:00-17:00. Begränsad tillgänglighet för träning under dessa tider. Följ anvisningen på rangen.
URL:https://www.goteborgsgk.org/kalender/juniortraning-range-5/2024-06-05/
CATEGORIES:Träningsområden
END:VEVENT
BEGIN:VEVENT
DTSTART;TZID=Europe/Stockholm:20240605T153000
DTEND;TZID=Europe/Stockholm:20240605T193000
DTSTAMP:20260420T034803
CREATED:20240410T092619Z
LAST-MODIFIED:20240410T092742Z
UID:10000588-1717601400-1717615800@www.goteborgsgk.org
SUMMARY:Juniorträning Närspel
DESCRIPTION:Breddträning på närspelet mellan 15:30-19:30. En övningsgreen kommer alltid vara tillgänglig för medlemmar under dessa tider.
URL:https://www.goteborgsgk.org/kalender/juniortraning-narspel-5/2024-06-05/
CATEGORIES:Träningsområden
END:VEVENT
BEGIN:VEVENT
DTSTART;TZID=Europe/Stockholm:20240604T100000
DTEND;TZID=Europe/Stockholm:20240604T113000
DTSTAMP:20260420T034803
CREATED:20240411T194300Z
LAST-MODIFIED:20240411T194302Z
UID:10000613-1717495200-1717500600@www.goteborgsgk.org
SUMMARY:Seniorträning 55+ Range
DESCRIPTION:Seniorträning 55+ på rangen mellan 10:00-11:30. Rangen är avstängd under dessa tider.
URL:https://www.goteborgsgk.org/kalender/seniortraning-55-range/2024-06-04/
CATEGORIES:Träningsområden
END:VEVENT
BEGIN:VEVENT
DTSTART;TZID=Europe/Stockholm:20240603T153000
DTEND;TZID=Europe/Stockholm:20240603T200000
DTSTAMP:20260420T034803
CREATED:20240410T094613Z
LAST-MODIFIED:20240415T121812Z
UID:10000595-1717428600-1717444800@www.goteborgsgk.org
SUMMARY:Juniorträning Range + Medlemsträning
DESCRIPTION:Träning för Team GGK\, Team Future\, Tävlingsgruppen och medlemsträning på rangen mellan 15:30-20:00. Mycket begränsad tillgänglighet under dessa tider.
URL:https://www.goteborgsgk.org/kalender/juniortraning-range-4/2024-06-03/
CATEGORIES:Träningsområden
END:VEVENT
BEGIN:VEVENT
DTSTART;TZID=Europe/Stockholm:20240603T153000
DTEND;TZID=Europe/Stockholm:20240603T193000
DTSTAMP:20260420T034803
CREATED:20240410T092619Z
LAST-MODIFIED:20240410T092742Z
UID:10000587-1717428600-1717443000@www.goteborgsgk.org
SUMMARY:Juniorträning Närspel
DESCRIPTION:Breddträning på närspelet mellan 15:30-19:30. En övningsgreen kommer alltid vara tillgänglig för medlemmar under dessa tider.
URL:https://www.goteborgsgk.org/kalender/juniortraning-narspel-5/2024-06-03/
CATEGORIES:Träningsområden
END:VEVENT
BEGIN:VEVENT
DTSTART;TZID=Europe/Stockholm:20240530T153000
DTEND;TZID=Europe/Stockholm:20240530T200000
DTSTAMP:20260420T034803
CREATED:20240410T073307Z
LAST-MODIFIED:20240415T121333Z
UID:10000307-1717083000-1717099200@www.goteborgsgk.org
SUMMARY:Juniorträning Närspel + Medlemsträning
DESCRIPTION:Träning för Team GGK\, Team Future\, Tävlingsgruppen och medlemsträning på närspelet mellan 15:30-20:00. Begränsad tillgänglighet under denna tiden.
URL:https://www.goteborgsgk.org/kalender/juniortraning-narspel-3/2024-05-30/
CATEGORIES:Träningsområden
END:VEVENT
BEGIN:VEVENT
DTSTART;TZID=Europe/Stockholm:20240530T153000
DTEND;TZID=Europe/Stockholm:20240530T183000
DTSTAMP:20260420T034803
CREATED:20240410T091537Z
LAST-MODIFIED:20240410T091641Z
UID:10000313-1717083000-1717093800@www.goteborgsgk.org
SUMMARY:Juniorträning Range
DESCRIPTION:Breddträning på rangen mellan 15:30-18:30. Begränsad tillgänglighet för träning under dessa tider. Följ anvisningen på rangen.
URL:https://www.goteborgsgk.org/kalender/juniortraning-range-2/2024-05-30/
CATEGORIES:Träningsområden
END:VEVENT
BEGIN:VEVENT
DTSTART;TZID=Europe/Stockholm:20240530T090000
DTEND;TZID=Europe/Stockholm:20240530T120000
DTSTAMP:20260420T034803
CREATED:20240415T083701Z
LAST-MODIFIED:20240415T083703Z
UID:10001532-1717059600-1717070400@www.goteborgsgk.org
SUMMARY:Damläger
DESCRIPTION:Damläger på rangen och närspelet. 8 platser reserverade på rangen och begränsad tillgång på närspelet under dessa tider.
URL:https://www.goteborgsgk.org/kalender/damlager-2/2024-05-30/
CATEGORIES:Träningsområden
END:VEVENT
BEGIN:VEVENT
DTSTART;TZID=Europe/Stockholm:20240529T160000
DTEND;TZID=Europe/Stockholm:20240529T170000
DTSTAMP:20260420T034803
CREATED:20240410T092107Z
LAST-MODIFIED:20240410T092109Z
UID:10000318-1716998400-1717002000@www.goteborgsgk.org
SUMMARY:Juniorträning Närspel
DESCRIPTION:Träning för Tävlingsgruppen på närspelet mellan 16:00-17:00. En övningsgreen kommer alltid vara tillgänglig för medlemmar under dessa tider.
URL:https://www.goteborgsgk.org/kalender/juniortraning-narspel-4/2024-05-29/
CATEGORIES:Träningsområden
END:VEVENT
BEGIN:VEVENT
DTSTART;TZID=Europe/Stockholm:20240529T153000
DTEND;TZID=Europe/Stockholm:20240529T193000
DTSTAMP:20260420T034803
CREATED:20240410T072542Z
LAST-MODIFIED:20240410T072544Z
UID:10000297-1716996600-1717011000@www.goteborgsgk.org
SUMMARY:Juniorträning Range
DESCRIPTION:Breddträning på rangen mellan 15:30-19:30. Begränsad tillgänglighet för träning under dessa tider. Följ anvisningen på rangen.
URL:https://www.goteborgsgk.org/kalender/juniortraning-range/2024-05-29/
CATEGORIES:Träningsområden
END:VEVENT
BEGIN:VEVENT
DTSTART;TZID=Europe/Stockholm:20240529T090000
DTEND;TZID=Europe/Stockholm:20240529T120000
DTSTAMP:20260420T034803
CREATED:20240415T083701Z
LAST-MODIFIED:20240415T083703Z
UID:10001531-1716973200-1716984000@www.goteborgsgk.org
SUMMARY:Damläger
DESCRIPTION:Damläger på rangen och närspelet. 8 platser reserverade på rangen och begränsad tillgång på närspelet under dessa tider.
URL:https://www.goteborgsgk.org/kalender/damlager-2/2024-05-29/
CATEGORIES:Träningsområden
END:VEVENT
BEGIN:VEVENT
DTSTART;TZID=Europe/Stockholm:20240528T100000
DTEND;TZID=Europe/Stockholm:20240528T113000
DTSTAMP:20260420T034803
CREATED:20240411T193835Z
LAST-MODIFIED:20240411T193837Z
UID:10000609-1716890400-1716895800@www.goteborgsgk.org
SUMMARY:Seniorträning 55+ Närspel
DESCRIPTION:Seniorträning 55+ på närspelet mellan 10:00-11:30. Begränsat tillgänglighet på närspelet under dessa tider.
URL:https://www.goteborgsgk.org/kalender/seniortraning-55-narspel/2024-05-28/
CATEGORIES:Träningsområden
END:VEVENT
BEGIN:VEVENT
DTSTART;TZID=Europe/Stockholm:20240527T190000
DTEND;TZID=Europe/Stockholm:20240527T190000
DTSTAMP:20260420T034803
CREATED:20240527T162840Z
LAST-MODIFIED:20240527T162925Z
UID:10001545-1716836400-1716836400@www.goteborgsgk.org
SUMMARY:Drivingrangen stängd pga. klippning resten av kvällen
DESCRIPTION:
URL:https://www.goteborgsgk.org/kalender/drivingrangen-stangd-pga-klippning/
CATEGORIES:Träningsområden
END:VEVENT
BEGIN:VEVENT
DTSTART;TZID=Europe/Stockholm:20240527T153000
DTEND;TZID=Europe/Stockholm:20240527T200000
DTSTAMP:20260420T034803
CREATED:20240410T073307Z
LAST-MODIFIED:20240415T121333Z
UID:10000306-1716823800-1716840000@www.goteborgsgk.org
SUMMARY:Juniorträning Närspel + Medlemsträning
DESCRIPTION:Träning för Team GGK\, Team Future\, Tävlingsgruppen och medlemsträning på närspelet mellan 15:30-20:00. Begränsad tillgänglighet under denna tiden.
URL:https://www.goteborgsgk.org/kalender/juniortraning-narspel-3/2024-05-27/
CATEGORIES:Träningsområden
END:VEVENT
BEGIN:VEVENT
DTSTART;TZID=Europe/Stockholm:20240527T153000
DTEND;TZID=Europe/Stockholm:20240527T193000
DTSTAMP:20260420T034803
CREATED:20240410T072542Z
LAST-MODIFIED:20240410T072544Z
UID:10000296-1716823800-1716838200@www.goteborgsgk.org
SUMMARY:Juniorträning Range
DESCRIPTION:Breddträning på rangen mellan 15:30-19:30. Begränsad tillgänglighet för träning under dessa tider. Följ anvisningen på rangen.
URL:https://www.goteborgsgk.org/kalender/juniortraning-range/2024-05-27/
CATEGORIES:Träningsområden
END:VEVENT
END:VCALENDAR