BEGIN:VCALENDAR
VERSION:2.0
PRODID:-//Göteborgs Golf Klubb - ECPv6.15.15//NONSGML v1.0//EN
CALSCALE:GREGORIAN
METHOD:PUBLISH
X-WR-CALNAME:Göteborgs Golf Klubb
X-ORIGINAL-URL:https://www.goteborgsgk.org
X-WR-CALDESC:Händelser för Göteborgs Golf Klubb
REFRESH-INTERVAL;VALUE=DURATION:PT1H
X-Robots-Tag:noindex
X-PUBLISHED-TTL:PT1H
BEGIN:VTIMEZONE
TZID:Europe/Stockholm
BEGIN:DAYLIGHT
TZOFFSETFROM:+0100
TZOFFSETTO:+0200
TZNAME:CEST
DTSTART:20220327T010000
END:DAYLIGHT
BEGIN:STANDARD
TZOFFSETFROM:+0200
TZOFFSETTO:+0100
TZNAME:CET
DTSTART:20221030T010000
END:STANDARD
BEGIN:DAYLIGHT
TZOFFSETFROM:+0100
TZOFFSETTO:+0200
TZNAME:CEST
DTSTART:20230326T010000
END:DAYLIGHT
BEGIN:STANDARD
TZOFFSETFROM:+0200
TZOFFSETTO:+0100
TZNAME:CET
DTSTART:20231029T010000
END:STANDARD
BEGIN:DAYLIGHT
TZOFFSETFROM:+0100
TZOFFSETTO:+0200
TZNAME:CEST
DTSTART:20240331T010000
END:DAYLIGHT
BEGIN:STANDARD
TZOFFSETFROM:+0200
TZOFFSETTO:+0100
TZNAME:CET
DTSTART:20241027T010000
END:STANDARD
BEGIN:DAYLIGHT
TZOFFSETFROM:+0100
TZOFFSETTO:+0200
TZNAME:CEST
DTSTART:20250330T010000
END:DAYLIGHT
BEGIN:STANDARD
TZOFFSETFROM:+0200
TZOFFSETTO:+0100
TZNAME:CET
DTSTART:20251026T010000
END:STANDARD
END:VTIMEZONE
BEGIN:VEVENT
DTSTART;TZID=Europe/Stockholm:20240430T100000
DTEND;TZID=Europe/Stockholm:20240430T113000
DTSTAMP:20260420T203336
CREATED:20240411T193835Z
LAST-MODIFIED:20240411T193837Z
UID:10000607-1714471200-1714476600@www.goteborgsgk.org
SUMMARY:Seniorträning 55+ Närspel
DESCRIPTION:Seniorträning 55+ på närspelet mellan 10:00-11:30. Begränsat tillgänglighet på närspelet under dessa tider.
URL:https://www.goteborgsgk.org/kalender/seniortraning-55-narspel/2024-04-30/
CATEGORIES:Träningsområden
END:VEVENT
BEGIN:VEVENT
DTSTART;TZID=Europe/Stockholm:20240429T153000
DTEND;TZID=Europe/Stockholm:20240429T200000
DTSTAMP:20260420T203336
CREATED:20240410T073307Z
LAST-MODIFIED:20240415T121333Z
UID:10000302-1714404600-1714420800@www.goteborgsgk.org
SUMMARY:Juniorträning Närspel + Medlemsträning
DESCRIPTION:Träning för Team GGK\, Team Future\, Tävlingsgruppen och medlemsträning på närspelet mellan 15:30-20:00. Begränsad tillgänglighet under denna tiden.
URL:https://www.goteborgsgk.org/kalender/juniortraning-narspel-3/2024-04-29/
CATEGORIES:Träningsområden
END:VEVENT
BEGIN:VEVENT
DTSTART;TZID=Europe/Stockholm:20240429T153000
DTEND;TZID=Europe/Stockholm:20240429T193000
DTSTAMP:20260420T203336
CREATED:20240410T072542Z
LAST-MODIFIED:20240410T072544Z
UID:10000292-1714404600-1714419000@www.goteborgsgk.org
SUMMARY:Juniorträning Range
DESCRIPTION:Breddträning på rangen mellan 15:30-19:30. Begränsad tillgänglighet för träning under dessa tider. Följ anvisningen på rangen.
URL:https://www.goteborgsgk.org/kalender/juniortraning-range/2024-04-29/
CATEGORIES:Träningsområden
END:VEVENT
BEGIN:VEVENT
DTSTART;TZID=Europe/Stockholm:20240426T153000
DTEND;TZID=Europe/Stockholm:20240426T173000
DTSTAMP:20260420T203336
CREATED:20240418T123004Z
LAST-MODIFIED:20240418T123005Z
UID:10001539-1714145400-1714152600@www.goteborgsgk.org
SUMMARY:Juniorträning range
DESCRIPTION:Juniorträning på rangen. Tio platser är reserverade under den här tiden.
URL:https://www.goteborgsgk.org/kalender/juniortraning-range-6/
CATEGORIES:Träningsområden
END:VEVENT
BEGIN:VEVENT
DTSTART;TZID=Europe/Stockholm:20240425T153000
DTEND;TZID=Europe/Stockholm:20240425T200000
DTSTAMP:20260420T203336
CREATED:20240410T094613Z
LAST-MODIFIED:20240415T121812Z
UID:10000590-1714059000-1714075200@www.goteborgsgk.org
SUMMARY:Juniorträning Range + Medlemsträning
DESCRIPTION:Träning för Team GGK\, Team Future\, Tävlingsgruppen och medlemsträning på rangen mellan 15:30-20:00. Mycket begränsad tillgänglighet under dessa tider.
URL:https://www.goteborgsgk.org/kalender/juniortraning-range-4/2024-04-25/
CATEGORIES:Träningsområden
END:VEVENT
BEGIN:VEVENT
DTSTART;TZID=Europe/Stockholm:20240425T153000
DTEND;TZID=Europe/Stockholm:20240425T183000
DTSTAMP:20260420T203336
CREATED:20240410T102002Z
LAST-MODIFIED:20240410T102005Z
UID:10000601-1714059000-1714069800@www.goteborgsgk.org
SUMMARY:Juniorträning Närspel
DESCRIPTION:Breddträning på närspel mellan 15:30-18:30. En övningsgreen kommer alltid vara tillgänglig för medlemmar under dessa tider.
URL:https://www.goteborgsgk.org/kalender/juniortraning-narspel-6/2024-04-25/
CATEGORIES:Träningsområden
END:VEVENT
BEGIN:VEVENT
DTSTART;TZID=Europe/Stockholm:20240425T090000
DTEND;TZID=Europe/Stockholm:20240425T120000
DTSTAMP:20260420T203336
CREATED:20240415T082356Z
LAST-MODIFIED:20240415T082825Z
UID:10000615-1714035600-1714046400@www.goteborgsgk.org
SUMMARY:Damläger
DESCRIPTION:Damläger på rangen och närspelet. 8 platser reserverade på rangen och begränsad tillgång på närspelet under dessa tider.
URL:https://www.goteborgsgk.org/kalender/damlager/2024-04-25/
CATEGORIES:Träningsområden
END:VEVENT
BEGIN:VEVENT
DTSTART;TZID=Europe/Stockholm:20240424T160000
DTEND;TZID=Europe/Stockholm:20240424T170000
DTSTAMP:20260420T203336
CREATED:20240410T100739Z
LAST-MODIFIED:20240410T100953Z
UID:10000597-1713974400-1713978000@www.goteborgsgk.org
SUMMARY:Juniorträning Range
DESCRIPTION:Träning för Tävlingsgruppen på rangen mellan 16:00-17:00. Begränsad tillgänglighet för träning under dessa tider. Följ anvisningen på rangen.
URL:https://www.goteborgsgk.org/kalender/juniortraning-range-5/2024-04-24/
CATEGORIES:Träningsområden
END:VEVENT
BEGIN:VEVENT
DTSTART;TZID=Europe/Stockholm:20240424T153000
DTEND;TZID=Europe/Stockholm:20240424T193000
DTSTAMP:20260420T203336
CREATED:20240410T092619Z
LAST-MODIFIED:20240410T092742Z
UID:10000582-1713972600-1713987000@www.goteborgsgk.org
SUMMARY:Juniorträning Närspel
DESCRIPTION:Breddträning på närspelet mellan 15:30-19:30. En övningsgreen kommer alltid vara tillgänglig för medlemmar under dessa tider.
URL:https://www.goteborgsgk.org/kalender/juniortraning-narspel-5/2024-04-24/
CATEGORIES:Träningsområden
END:VEVENT
BEGIN:VEVENT
DTSTART;TZID=Europe/Stockholm:20240424T090000
DTEND;TZID=Europe/Stockholm:20240424T120000
DTSTAMP:20260420T203336
CREATED:20240415T082356Z
LAST-MODIFIED:20240415T082825Z
UID:10001525-1713949200-1713960000@www.goteborgsgk.org
SUMMARY:Damläger
DESCRIPTION:Damläger på rangen och närspelet. 8 platser reserverade på rangen och begränsad tillgång på närspelet under dessa tider.
URL:https://www.goteborgsgk.org/kalender/damlager/2024-04-24/
CATEGORIES:Träningsområden
END:VEVENT
BEGIN:VEVENT
DTSTART;TZID=Europe/Stockholm:20240423T183000
DTEND;TZID=Europe/Stockholm:20240423T193000
DTSTAMP:20260420T203336
CREATED:20240416T115555Z
LAST-MODIFIED:20240416T121335Z
UID:10001534-1713897000-1713900600@www.goteborgsgk.org
SUMMARY:Gruppträning vuxen range
DESCRIPTION:Gruppträning för vuxna på drivingrangen. 7 platser är reserverade under den här tiden.
URL:https://www.goteborgsgk.org/kalender/grupptraning-vuxen-2/
CATEGORIES:Träningsområden
END:VEVENT
BEGIN:VEVENT
DTSTART;TZID=Europe/Stockholm:20240423T100000
DTEND;TZID=Europe/Stockholm:20240423T113000
DTSTAMP:20260420T203336
CREATED:20240411T194300Z
LAST-MODIFIED:20240411T194302Z
UID:10000610-1713866400-1713871800@www.goteborgsgk.org
SUMMARY:Seniorträning 55+ Range
DESCRIPTION:Seniorträning 55+ på rangen mellan 10:00-11:30. Rangen är avstängd under dessa tider.
URL:https://www.goteborgsgk.org/kalender/seniortraning-55-range/2024-04-23/
CATEGORIES:Träningsområden
END:VEVENT
BEGIN:VEVENT
DTSTART;TZID=Europe/Stockholm:20240422T153000
DTEND;TZID=Europe/Stockholm:20240422T200000
DTSTAMP:20260420T203336
CREATED:20240410T094613Z
LAST-MODIFIED:20240415T121812Z
UID:10000589-1713799800-1713816000@www.goteborgsgk.org
SUMMARY:Juniorträning Range + Medlemsträning
DESCRIPTION:Träning för Team GGK\, Team Future\, Tävlingsgruppen och medlemsträning på rangen mellan 15:30-20:00. Mycket begränsad tillgänglighet under dessa tider.
URL:https://www.goteborgsgk.org/kalender/juniortraning-range-4/2024-04-22/
CATEGORIES:Träningsområden
END:VEVENT
BEGIN:VEVENT
DTSTART;TZID=Europe/Stockholm:20240422T153000
DTEND;TZID=Europe/Stockholm:20240422T193000
DTSTAMP:20260420T203336
CREATED:20240410T092619Z
LAST-MODIFIED:20240410T092742Z
UID:10000581-1713799800-1713814200@www.goteborgsgk.org
SUMMARY:Juniorträning Närspel
DESCRIPTION:Breddträning på närspelet mellan 15:30-19:30. En övningsgreen kommer alltid vara tillgänglig för medlemmar under dessa tider.
URL:https://www.goteborgsgk.org/kalender/juniortraning-narspel-5/2024-04-22/
CATEGORIES:Träningsområden
END:VEVENT
BEGIN:VEVENT
DTSTART;TZID=Europe/Stockholm:20240419T153000
DTEND;TZID=Europe/Stockholm:20240419T173000
DTSTAMP:20260420T203336
CREATED:20240418T122858Z
LAST-MODIFIED:20240418T122900Z
UID:10001538-1713540600-1713547800@www.goteborgsgk.org
SUMMARY:Juniorträning närspel
DESCRIPTION:Juniorträning 15.30-17.30 på närspelsområdet. Begränsad tillgång under den här tiden.
URL:https://www.goteborgsgk.org/kalender/juniortraning-narspel-7/
CATEGORIES:Träningsområden
END:VEVENT
BEGIN:VEVENT
DTSTART;TZID=Europe/Stockholm:20240418T153000
DTEND;TZID=Europe/Stockholm:20240418T200000
DTSTAMP:20260420T203336
CREATED:20240410T073307Z
LAST-MODIFIED:20240415T121333Z
UID:10000301-1713454200-1713470400@www.goteborgsgk.org
SUMMARY:Juniorträning Närspel + Medlemsträning
DESCRIPTION:Träning för Team GGK\, Team Future\, Tävlingsgruppen och medlemsträning på närspelet mellan 15:30-20:00. Begränsad tillgänglighet under denna tiden.
URL:https://www.goteborgsgk.org/kalender/juniortraning-narspel-3/2024-04-18/
CATEGORIES:Träningsområden
END:VEVENT
BEGIN:VEVENT
DTSTART;TZID=Europe/Stockholm:20240418T153000
DTEND;TZID=Europe/Stockholm:20240418T183000
DTSTAMP:20260420T203336
CREATED:20240410T091537Z
LAST-MODIFIED:20240410T091641Z
UID:10000310-1713454200-1713465000@www.goteborgsgk.org
SUMMARY:Juniorträning Range
DESCRIPTION:Breddträning på rangen mellan 15:30-18:30. Begränsad tillgänglighet för träning under dessa tider. Följ anvisningen på rangen.
URL:https://www.goteborgsgk.org/kalender/juniortraning-range-2/2024-04-18/
CATEGORIES:Träningsområden
END:VEVENT
BEGIN:VEVENT
DTSTART;TZID=Europe/Stockholm:20240417T160000
DTEND;TZID=Europe/Stockholm:20240417T170000
DTSTAMP:20260420T203336
CREATED:20240410T092107Z
LAST-MODIFIED:20240410T092109Z
UID:10000315-1713369600-1713373200@www.goteborgsgk.org
SUMMARY:Juniorträning Närspel
DESCRIPTION:Träning för Tävlingsgruppen på närspelet mellan 16:00-17:00. En övningsgreen kommer alltid vara tillgänglig för medlemmar under dessa tider.
URL:https://www.goteborgsgk.org/kalender/juniortraning-narspel-4/2024-04-17/
CATEGORIES:Träningsområden
END:VEVENT
BEGIN:VEVENT
DTSTART;TZID=Europe/Stockholm:20240417T153000
DTEND;TZID=Europe/Stockholm:20240417T193000
DTSTAMP:20260420T203336
CREATED:20240410T072542Z
LAST-MODIFIED:20240410T072544Z
UID:10000291-1713367800-1713382200@www.goteborgsgk.org
SUMMARY:Juniorträning Range
DESCRIPTION:Breddträning på rangen mellan 15:30-19:30. Begränsad tillgänglighet för träning under dessa tider. Följ anvisningen på rangen.
URL:https://www.goteborgsgk.org/kalender/juniortraning-range/2024-04-17/
CATEGORIES:Träningsområden
END:VEVENT
BEGIN:VEVENT
DTSTART;TZID=Europe/Stockholm:20240416T183000
DTEND;TZID=Europe/Stockholm:20240416T193000
DTSTAMP:20260420T203336
CREATED:20240416T115200Z
LAST-MODIFIED:20240416T121235Z
UID:10001533-1713292200-1713295800@www.goteborgsgk.org
SUMMARY:Gruppträning vuxen närspel
DESCRIPTION:Gruppträning 7 pers på närspelet. Nya övningsgreenen är reserverad under den här tiden.
URL:https://www.goteborgsgk.org/kalender/grupptraning-vuxen/
CATEGORIES:Träningsområden
END:VEVENT
BEGIN:VEVENT
DTSTART;TZID=Europe/Stockholm:20240416T100000
DTEND;TZID=Europe/Stockholm:20240416T113000
DTSTAMP:20260420T203336
CREATED:20240411T193835Z
LAST-MODIFIED:20240411T193837Z
UID:10000606-1713261600-1713267000@www.goteborgsgk.org
SUMMARY:Seniorträning 55+ Närspel
DESCRIPTION:Seniorträning 55+ på närspelet mellan 10:00-11:30. Begränsat tillgänglighet på närspelet under dessa tider.
URL:https://www.goteborgsgk.org/kalender/seniortraning-55-narspel/2024-04-16/
CATEGORIES:Träningsområden
END:VEVENT
BEGIN:VEVENT
DTSTART;TZID=Europe/Stockholm:20240415T153000
DTEND;TZID=Europe/Stockholm:20240415T200000
DTSTAMP:20260420T203336
CREATED:20240410T073307Z
LAST-MODIFIED:20240415T121333Z
UID:10000300-1713195000-1713211200@www.goteborgsgk.org
SUMMARY:Juniorträning Närspel + Medlemsträning
DESCRIPTION:Träning för Team GGK\, Team Future\, Tävlingsgruppen och medlemsträning på närspelet mellan 15:30-20:00. Begränsad tillgänglighet under denna tiden.
URL:https://www.goteborgsgk.org/kalender/juniortraning-narspel-3/2024-04-15/
CATEGORIES:Träningsområden
END:VEVENT
BEGIN:VEVENT
DTSTART;TZID=Europe/Stockholm:20240415T153000
DTEND;TZID=Europe/Stockholm:20240415T193000
DTSTAMP:20260420T203336
CREATED:20240410T072542Z
LAST-MODIFIED:20240410T072544Z
UID:10000290-1713195000-1713209400@www.goteborgsgk.org
SUMMARY:Juniorträning Range
DESCRIPTION:Breddträning på rangen mellan 15:30-19:30. Begränsad tillgänglighet för träning under dessa tider. Följ anvisningen på rangen.
URL:https://www.goteborgsgk.org/kalender/juniortraning-range/2024-04-15/
CATEGORIES:Träningsområden
END:VEVENT
BEGIN:VEVENT
DTSTART;TZID=Europe/Stockholm:20240410T140000
DTEND;TZID=Europe/Stockholm:20240410T150000
DTSTAMP:20260420T203336
CREATED:20240410T131159Z
LAST-MODIFIED:20240410T131201Z
UID:10000605-1712757600-1712761200@www.goteborgsgk.org
SUMMARY:Rangen stängd pga bollplocknin
DESCRIPTION:
URL:https://www.goteborgsgk.org/kalender/rangen-stangd-pga-bollplocknin/
CATEGORIES:Träningsområden
END:VEVENT
BEGIN:VEVENT
DTSTART;TZID=Europe/Stockholm:20240402T000000
DTEND;TZID=Europe/Stockholm:20240407T235959
DTSTAMP:20260420T203336
CREATED:20240328T182843Z
LAST-MODIFIED:20240328T182844Z
UID:10000289-1712016000-1712534399@www.goteborgsgk.org
SUMMARY:Närspelsområdet stängt
DESCRIPTION:
URL:https://www.goteborgsgk.org/kalender/narspelsomradet-stangt/
CATEGORIES:Träningsområden
END:VEVENT
BEGIN:VEVENT
DTSTART;TZID=Europe/Stockholm:20231123T190000
DTEND;TZID=Europe/Stockholm:20231123T190000
DTSTAMP:20260420T203336
CREATED:20231006T091202Z
LAST-MODIFIED:20231006T091249Z
UID:10000280-1700766000-1700766000@www.goteborgsgk.org
SUMMARY:Höstmöte Göteborgs Golf Klubb
DESCRIPTION:
URL:https://www.goteborgsgk.org/kalender/hostmote/
CATEGORIES:Kalender
END:VEVENT
BEGIN:VEVENT
DTSTART;TZID=Europe/Stockholm:20231101T000000
DTEND;TZID=Europe/Stockholm:20240401T235959
DTSTAMP:20260420T203336
CREATED:20231111T094707Z
LAST-MODIFIED:20240328T182611Z
UID:10000287-1698796800-1712015999@www.goteborgsgk.org
SUMMARY:Driving-range och närspelsområdet stängda för säsongen
DESCRIPTION:
URL:https://www.goteborgsgk.org/kalender/driving-range-och-narspelsomradet-stangda-for-sasongen/
CATEGORIES:Träningsområden
END:VEVENT
BEGIN:VEVENT
DTSTART;TZID=Europe/Stockholm:20231020T091500
DTEND;TZID=Europe/Stockholm:20231020T104500
DTSTAMP:20260420T203336
CREATED:20231012T111012Z
LAST-MODIFIED:20231012T111013Z
UID:10000285-1697793300-1697798700@www.goteborgsgk.org
SUMMARY:Rangen avstängd pga rangeröj
DESCRIPTION:
URL:https://www.goteborgsgk.org/kalender/rangen-avstangd-pga-rangeroj-5/
CATEGORIES:Träningsområden
END:VEVENT
BEGIN:VEVENT
DTSTART;TZID=Europe/Stockholm:20231019T091500
DTEND;TZID=Europe/Stockholm:20231019T104500
DTSTAMP:20260420T203336
CREATED:20231012T110922Z
LAST-MODIFIED:20231012T110923Z
UID:10000284-1697706900-1697712300@www.goteborgsgk.org
SUMMARY:Rangen avstängd pga rangeröj
DESCRIPTION:
URL:https://www.goteborgsgk.org/kalender/rangen-avstangd-pga-rangeroj-4/
CATEGORIES:Träningsområden
END:VEVENT
BEGIN:VEVENT
DTSTART;TZID=Europe/Stockholm:20231018T091500
DTEND;TZID=Europe/Stockholm:20231018T104500
DTSTAMP:20260420T203336
CREATED:20231012T110837Z
LAST-MODIFIED:20231012T110839Z
UID:10000283-1697620500-1697625900@www.goteborgsgk.org
SUMMARY:Rangen avstängd pga rangeröj
DESCRIPTION:
URL:https://www.goteborgsgk.org/kalender/rangen-avstangd-pga-rangeroj-3/
CATEGORIES:Träningsområden
END:VEVENT
END:VCALENDAR