BEGIN:VCALENDAR
VERSION:2.0
PRODID:-//Göteborgs Golf Klubb - ECPv6.15.15//NONSGML v1.0//EN
CALSCALE:GREGORIAN
METHOD:PUBLISH
X-ORIGINAL-URL:https://www.goteborgsgk.org
X-WR-CALDESC:Händelser för Göteborgs Golf Klubb
REFRESH-INTERVAL;VALUE=DURATION:PT1H
X-Robots-Tag:noindex
X-PUBLISHED-TTL:PT1H
BEGIN:VTIMEZONE
TZID:Europe/Stockholm
BEGIN:DAYLIGHT
TZOFFSETFROM:+0100
TZOFFSETTO:+0200
TZNAME:CEST
DTSTART:20240331T010000
END:DAYLIGHT
BEGIN:STANDARD
TZOFFSETFROM:+0200
TZOFFSETTO:+0100
TZNAME:CET
DTSTART:20241027T010000
END:STANDARD
BEGIN:DAYLIGHT
TZOFFSETFROM:+0100
TZOFFSETTO:+0200
TZNAME:CEST
DTSTART:20250330T010000
END:DAYLIGHT
BEGIN:STANDARD
TZOFFSETFROM:+0200
TZOFFSETTO:+0100
TZNAME:CET
DTSTART:20251026T010000
END:STANDARD
BEGIN:DAYLIGHT
TZOFFSETFROM:+0100
TZOFFSETTO:+0200
TZNAME:CEST
DTSTART:20260329T010000
END:DAYLIGHT
BEGIN:STANDARD
TZOFFSETFROM:+0200
TZOFFSETTO:+0100
TZNAME:CET
DTSTART:20261025T010000
END:STANDARD
END:VTIMEZONE
BEGIN:VEVENT
DTSTART;TZID=Europe/Stockholm:20250423T090000
DTEND;TZID=Europe/Stockholm:20250423T120000
DTSTAMP:20260419T223909
CREATED:20250408T103414Z
LAST-MODIFIED:20250408T110111Z
UID:10001606-1745398800-1745409600@www.goteborgsgk.org
SUMMARY:Damläger Närspel & Range
DESCRIPTION:Damläger på både range och närspel mellan 09:00-12:00. Begränsad tillgänglighet under dessa tider för egenträning.
URL:https://www.goteborgsgk.org/kalender/damlager-narspel-range-2/2025-04-23/
CATEGORIES:Träningsområden
END:VEVENT
BEGIN:VEVENT
DTSTART;TZID=Europe/Stockholm:20250423T153000
DTEND;TZID=Europe/Stockholm:20250423T193000
DTSTAMP:20260419T223909
CREATED:20250408T111148Z
LAST-MODIFIED:20250408T111701Z
UID:10001789-1745422200-1745436600@www.goteborgsgk.org
SUMMARY:Juniorträning Range
DESCRIPTION:Juniorträning på rangen mellan 15:30-19:30. \n\n\n\nBegränsad tillgänglighet under dessa tider för egenträning.
URL:https://www.goteborgsgk.org/kalender/juniortraning-range-18/2025-04-23/
CATEGORIES:Träningsområden
END:VEVENT
BEGIN:VEVENT
DTSTART;TZID=Europe/Stockholm:20250423T160000
DTEND;TZID=Europe/Stockholm:20250423T193000
DTSTAMP:20260419T223909
CREATED:20250408T111342Z
LAST-MODIFIED:20250408T111828Z
UID:10001793-1745424000-1745436600@www.goteborgsgk.org
SUMMARY:Juniorträning Närspel
DESCRIPTION:Juniorträning på närspelet mellan 16:00-19:30. \n\n\n\n1 övningsgreen är ledig för medlemmar.
URL:https://www.goteborgsgk.org/kalender/juniortraning-narspel-15/2025-04-23/
CATEGORIES:Träningsområden
END:VEVENT
END:VCALENDAR